BEGIN:VCALENDAR
VERSION:2.0
PRODID:-//Keith War Memorial Sports Centre - ECPv6.15.20//NONSGML v1.0//EN
CALSCALE:GREGORIAN
METHOD:PUBLISH
X-WR-CALNAME:Keith War Memorial Sports Centre
X-ORIGINAL-URL:https://keithwarmemorialsportscentre.com.au
X-WR-CALDESC:Events for Keith War Memorial Sports Centre
REFRESH-INTERVAL;VALUE=DURATION:PT1H
X-Robots-Tag:noindex
X-PUBLISHED-TTL:PT1H
BEGIN:VTIMEZONE
TZID:Australia/Adelaide
BEGIN:STANDARD
TZOFFSETFROM:+1030
TZOFFSETTO:+0930
TZNAME:ACST
DTSTART:20200404T163000
END:STANDARD
BEGIN:DAYLIGHT
TZOFFSETFROM:+0930
TZOFFSETTO:+1030
TZNAME:ACDT
DTSTART:20201003T163000
END:DAYLIGHT
BEGIN:STANDARD
TZOFFSETFROM:+1030
TZOFFSETTO:+0930
TZNAME:ACST
DTSTART:20210403T163000
END:STANDARD
BEGIN:DAYLIGHT
TZOFFSETFROM:+0930
TZOFFSETTO:+1030
TZNAME:ACDT
DTSTART:20211002T163000
END:DAYLIGHT
BEGIN:STANDARD
TZOFFSETFROM:+1030
TZOFFSETTO:+0930
TZNAME:ACST
DTSTART:20220402T163000
END:STANDARD
BEGIN:DAYLIGHT
TZOFFSETFROM:+0930
TZOFFSETTO:+1030
TZNAME:ACDT
DTSTART:20221001T163000
END:DAYLIGHT
END:VTIMEZONE
BEGIN:VEVENT
DTSTART;TZID=Australia/Adelaide:20210803T170000
DTEND;TZID=Australia/Adelaide:20210803T183000
DTSTAMP:20260425T211219
CREATED:20210428T113258Z
LAST-MODIFIED:20210428T113258Z
UID:1907-1628010000-1628015400@keithwarmemorialsportscentre.com.au
SUMMARY:Netball training
DESCRIPTION:
URL:https://keithwarmemorialsportscentre.com.au/event/netball-training-123/
CATEGORIES:Outside Courts
END:VEVENT
BEGIN:VEVENT
DTSTART;TZID=Australia/Adelaide:20210804T153000
DTEND;TZID=Australia/Adelaide:20210804T183000
DTSTAMP:20260425T211219
CREATED:20210627T123347Z
LAST-MODIFIED:20210627T123347Z
UID:2002-1628091000-1628101800@keithwarmemorialsportscentre.com.au
SUMMARY:BB Junior training
DESCRIPTION:
URL:https://keithwarmemorialsportscentre.com.au/event/bb-junior-training-3/
CATEGORIES:Stadium
END:VEVENT
BEGIN:VEVENT
DTSTART;TZID=Australia/Adelaide:20210804T190000
DTEND;TZID=Australia/Adelaide:20210804T210000
DTSTAMP:20260425T211219
CREATED:20210802T062210Z
LAST-MODIFIED:20210802T062210Z
UID:2023-1628103600-1628110800@keithwarmemorialsportscentre.com.au
SUMMARY:Keith Basketball Club
DESCRIPTION:
URL:https://keithwarmemorialsportscentre.com.au/event/keith-basketball-club-6/
CATEGORIES:Meeting Room
END:VEVENT
BEGIN:VEVENT
DTSTART;TZID=Australia/Adelaide:20210805T153000
DTEND;TZID=Australia/Adelaide:20210805T200000
DTSTAMP:20260425T211219
CREATED:20210428T125527Z
LAST-MODIFIED:20210428T125527Z
UID:1947-1628177400-1628193600@keithwarmemorialsportscentre.com.au
SUMMARY:Netball training
DESCRIPTION:
URL:https://keithwarmemorialsportscentre.com.au/event/netball-training-143/
CATEGORIES:Outside Courts
END:VEVENT
BEGIN:VEVENT
DTSTART;TZID=Australia/Adelaide:20210807T080000
DTEND;TZID=Australia/Adelaide:20210807T170000
DTSTAMP:20260425T211219
CREATED:20210215T234033Z
LAST-MODIFIED:20210215T234033Z
UID:1795-1628323200-1628355600@keithwarmemorialsportscentre.com.au
SUMMARY:Netball home game
DESCRIPTION:
URL:https://keithwarmemorialsportscentre.com.au/event/netball-home-game-8/
CATEGORIES:Stadium
END:VEVENT
BEGIN:VEVENT
DTSTART;TZID=Australia/Adelaide:20210810T170000
DTEND;TZID=Australia/Adelaide:20210810T183000
DTSTAMP:20260425T211219
CREATED:20210428T113344Z
LAST-MODIFIED:20210428T113344Z
UID:1909-1628614800-1628620200@keithwarmemorialsportscentre.com.au
SUMMARY:Netball training
DESCRIPTION:
URL:https://keithwarmemorialsportscentre.com.au/event/netball-training-124/
CATEGORIES:Outside Courts
END:VEVENT
BEGIN:VEVENT
DTSTART;TZID=Australia/Adelaide:20210811T153000
DTEND;TZID=Australia/Adelaide:20210811T183000
DTSTAMP:20260425T211219
CREATED:20210627T123413Z
LAST-MODIFIED:20210627T123413Z
UID:2004-1628695800-1628706600@keithwarmemorialsportscentre.com.au
SUMMARY:BB Junior training
DESCRIPTION:
URL:https://keithwarmemorialsportscentre.com.au/event/bb-junior-training-4/
CATEGORIES:Stadium
END:VEVENT
BEGIN:VEVENT
DTSTART;TZID=Australia/Adelaide:20210812T153000
DTEND;TZID=Australia/Adelaide:20210812T200000
DTSTAMP:20260425T211219
CREATED:20210428T125621Z
LAST-MODIFIED:20210428T125621Z
UID:1949-1628782200-1628798400@keithwarmemorialsportscentre.com.au
SUMMARY:Netball training
DESCRIPTION:
URL:https://keithwarmemorialsportscentre.com.au/event/netball-training-144/
CATEGORIES:Outside Courts
END:VEVENT
BEGIN:VEVENT
DTSTART;TZID=Australia/Adelaide:20210812T180000
DTEND;TZID=Australia/Adelaide:20210812T190000
DTSTAMP:20260425T211219
CREATED:20210810T110558Z
LAST-MODIFIED:20210810T110558Z
UID:2029-1628791200-1628794800@keithwarmemorialsportscentre.com.au
SUMMARY:Keith Junior football
DESCRIPTION:
URL:https://keithwarmemorialsportscentre.com.au/event/keith-junior-football/
CATEGORIES:Meeting Room
END:VEVENT
BEGIN:VEVENT
DTSTART;TZID=Australia/Adelaide:20210814T080000
DTEND;TZID=Australia/Adelaide:20210814T180000
DTSTAMP:20260425T211219
CREATED:20210813T024244Z
LAST-MODIFIED:20210813T024244Z
UID:2034-1628928000-1628964000@keithwarmemorialsportscentre.com.au
SUMMARY:Netball home game
DESCRIPTION:
URL:https://keithwarmemorialsportscentre.com.au/event/netball-home-game-9/
CATEGORIES:Stadium
END:VEVENT
BEGIN:VEVENT
DTSTART;TZID=Australia/Adelaide:20210815T140000
DTEND;TZID=Australia/Adelaide:20210815T180000
DTSTAMP:20260425T211219
CREATED:20210813T024058Z
LAST-MODIFIED:20210813T024058Z
UID:2032-1629036000-1629050400@keithwarmemorialsportscentre.com.au
SUMMARY:Keith netball club
DESCRIPTION:
URL:https://keithwarmemorialsportscentre.com.au/event/keith-netball-club/
CATEGORIES:Outside Courts
END:VEVENT
BEGIN:VEVENT
DTSTART;TZID=Australia/Adelaide:20210816T193000
DTEND;TZID=Australia/Adelaide:20210816T213000
DTSTAMP:20260425T211219
CREATED:20210816T011223Z
LAST-MODIFIED:20210816T011223Z
UID:2036-1629142200-1629149400@keithwarmemorialsportscentre.com.au
SUMMARY:KWMSC meeting
DESCRIPTION:
URL:https://keithwarmemorialsportscentre.com.au/event/kwmsc-meeting-4/
CATEGORIES:Meeting Room
END:VEVENT
BEGIN:VEVENT
DTSTART;TZID=Australia/Adelaide:20210817T170000
DTEND;TZID=Australia/Adelaide:20210817T183000
DTSTAMP:20260425T211219
CREATED:20210428T113444Z
LAST-MODIFIED:20210428T113444Z
UID:1911-1629219600-1629225000@keithwarmemorialsportscentre.com.au
SUMMARY:Netball training
DESCRIPTION:
URL:https://keithwarmemorialsportscentre.com.au/event/netball-training-125/
CATEGORIES:Outside Courts
END:VEVENT
BEGIN:VEVENT
DTSTART;TZID=Australia/Adelaide:20210818T153000
DTEND;TZID=Australia/Adelaide:20210818T183000
DTSTAMP:20260425T211219
CREATED:20210627T123441Z
LAST-MODIFIED:20210627T123441Z
UID:2006-1629300600-1629311400@keithwarmemorialsportscentre.com.au
SUMMARY:BB Junior training
DESCRIPTION:
URL:https://keithwarmemorialsportscentre.com.au/event/bb-junior-training-5/
CATEGORIES:Stadium
END:VEVENT
BEGIN:VEVENT
DTSTART;TZID=Australia/Adelaide:20210818T180000
DTEND;TZID=Australia/Adelaide:20210818T210000
DTSTAMP:20260425T211219
CREATED:20210802T062533Z
LAST-MODIFIED:20210802T062533Z
UID:2025-1629309600-1629320400@keithwarmemorialsportscentre.com.au
SUMMARY:Keith Basketball Club
DESCRIPTION:
URL:https://keithwarmemorialsportscentre.com.au/event/keith-basketball-club-7/
CATEGORIES:Meeting Room
END:VEVENT
BEGIN:VEVENT
DTSTART;TZID=Australia/Adelaide:20210819T153000
DTEND;TZID=Australia/Adelaide:20210819T200000
DTSTAMP:20260425T211219
CREATED:20210428T125711Z
LAST-MODIFIED:20210428T125711Z
UID:1951-1629387000-1629403200@keithwarmemorialsportscentre.com.au
SUMMARY:Netball training
DESCRIPTION:
URL:https://keithwarmemorialsportscentre.com.au/event/netball-training-145/
CATEGORIES:Outside Courts
END:VEVENT
BEGIN:VEVENT
DTSTART;TZID=Australia/Adelaide:20210825T153000
DTEND;TZID=Australia/Adelaide:20210825T183000
DTSTAMP:20260425T211219
CREATED:20210627T123512Z
LAST-MODIFIED:20210627T123512Z
UID:2008-1629905400-1629916200@keithwarmemorialsportscentre.com.au
SUMMARY:BB Junior training
DESCRIPTION:
URL:https://keithwarmemorialsportscentre.com.au/event/bb-junior-training-6/
CATEGORIES:Stadium
END:VEVENT
BEGIN:VEVENT
DTSTART;TZID=Australia/Adelaide:20210828T080000
DTEND;TZID=Australia/Adelaide:20210828T170000
DTSTAMP:20260425T211219
CREATED:20210830T121255Z
LAST-MODIFIED:20210830T121255Z
UID:2043-1630137600-1630170000@keithwarmemorialsportscentre.com.au
SUMMARY:KNTFL Netball Finals
DESCRIPTION:
URL:https://keithwarmemorialsportscentre.com.au/event/kntfl-netball-finals/
CATEGORIES:Stadium
END:VEVENT
BEGIN:VEVENT
DTSTART;TZID=Australia/Adelaide:20210830T190000
DTEND;TZID=Australia/Adelaide:20210830T210000
DTSTAMP:20260425T211219
CREATED:20210816T011300Z
LAST-MODIFIED:20210816T011300Z
UID:2038-1630350000-1630357200@keithwarmemorialsportscentre.com.au
SUMMARY:Keith Tennis club
DESCRIPTION:
URL:https://keithwarmemorialsportscentre.com.au/event/keith-tennis-club-4/
CATEGORIES:Meeting Room
END:VEVENT
END:VCALENDAR