BEGIN:VCALENDAR
VERSION:2.0
PRODID:-//Keith War Memorial Sports Centre - ECPv6.15.20//NONSGML v1.0//EN
CALSCALE:GREGORIAN
METHOD:PUBLISH
X-ORIGINAL-URL:https://keithwarmemorialsportscentre.com.au
X-WR-CALDESC:Events for Keith War Memorial Sports Centre
REFRESH-INTERVAL;VALUE=DURATION:PT1H
X-Robots-Tag:noindex
X-PUBLISHED-TTL:PT1H
BEGIN:VTIMEZONE
TZID:Australia/Adelaide
BEGIN:STANDARD
TZOFFSETFROM:+1030
TZOFFSETTO:+0930
TZNAME:ACST
DTSTART:20200404T163000
END:STANDARD
BEGIN:DAYLIGHT
TZOFFSETFROM:+0930
TZOFFSETTO:+1030
TZNAME:ACDT
DTSTART:20201003T163000
END:DAYLIGHT
BEGIN:STANDARD
TZOFFSETFROM:+1030
TZOFFSETTO:+0930
TZNAME:ACST
DTSTART:20210403T163000
END:STANDARD
BEGIN:DAYLIGHT
TZOFFSETFROM:+0930
TZOFFSETTO:+1030
TZNAME:ACDT
DTSTART:20211002T163000
END:DAYLIGHT
BEGIN:STANDARD
TZOFFSETFROM:+1030
TZOFFSETTO:+0930
TZNAME:ACST
DTSTART:20220402T163000
END:STANDARD
BEGIN:DAYLIGHT
TZOFFSETFROM:+0930
TZOFFSETTO:+1030
TZNAME:ACDT
DTSTART:20221001T163000
END:DAYLIGHT
END:VTIMEZONE
BEGIN:VEVENT
DTSTART;TZID=Australia/Adelaide:20210701T153000
DTEND;TZID=Australia/Adelaide:20210701T200000
DTSTAMP:20260425T225738
CREATED:20210428T125110Z
LAST-MODIFIED:20210428T125110Z
UID:1937-1625153400-1625169600@keithwarmemorialsportscentre.com.au
SUMMARY:Netball training
DESCRIPTION:
URL:https://keithwarmemorialsportscentre.com.au/event/netball-training-138/
CATEGORIES:Outside Courts
END:VEVENT
BEGIN:VEVENT
DTSTART;TZID=Australia/Adelaide:20210702T090000
DTEND;TZID=Australia/Adelaide:20210702T110000
DTSTAMP:20260425T225738
CREATED:20210601T041317Z
LAST-MODIFIED:20210601T041317Z
UID:1996-1625216400-1625223600@keithwarmemorialsportscentre.com.au
SUMMARY:KAS lesson
DESCRIPTION:
URL:https://keithwarmemorialsportscentre.com.au/event/kas-lesson-10/
CATEGORIES:Stadium
END:VEVENT
BEGIN:VEVENT
DTSTART;TZID=Australia/Adelaide:20210706T170000
DTEND;TZID=Australia/Adelaide:20210706T183000
DTSTAMP:20260425T225738
CREATED:20210428T112923Z
LAST-MODIFIED:20210428T112923Z
UID:1899-1625590800-1625596200@keithwarmemorialsportscentre.com.au
SUMMARY:Netball training
DESCRIPTION:
URL:https://keithwarmemorialsportscentre.com.au/event/netball-training-119/
CATEGORIES:Outside Courts
END:VEVENT
BEGIN:VEVENT
DTSTART;TZID=Australia/Adelaide:20210708T153000
DTEND;TZID=Australia/Adelaide:20210708T200000
DTSTAMP:20260425T225738
CREATED:20210428T125153Z
LAST-MODIFIED:20210428T125153Z
UID:1939-1625758200-1625774400@keithwarmemorialsportscentre.com.au
SUMMARY:Netball training
DESCRIPTION:
URL:https://keithwarmemorialsportscentre.com.au/event/netball-training-139/
CATEGORIES:Outside Courts
END:VEVENT
BEGIN:VEVENT
DTSTART;TZID=Australia/Adelaide:20210713T170000
DTEND;TZID=Australia/Adelaide:20210713T183000
DTSTAMP:20260425T225738
CREATED:20210428T113020Z
LAST-MODIFIED:20210428T113552Z
UID:1901-1626195600-1626201000@keithwarmemorialsportscentre.com.au
SUMMARY:Netball training
DESCRIPTION:
URL:https://keithwarmemorialsportscentre.com.au/event/netball-training-120/
CATEGORIES:Outside Courts
END:VEVENT
BEGIN:VEVENT
DTSTART;TZID=Australia/Adelaide:20210715T153000
DTEND;TZID=Australia/Adelaide:20210715T200000
DTSTAMP:20260425T225738
CREATED:20210428T125247Z
LAST-MODIFIED:20210428T125247Z
UID:1941-1626363000-1626379200@keithwarmemorialsportscentre.com.au
SUMMARY:Netball training
DESCRIPTION:
URL:https://keithwarmemorialsportscentre.com.au/event/netball-training-140/
CATEGORIES:Outside Courts
END:VEVENT
BEGIN:VEVENT
DTSTART;TZID=Australia/Adelaide:20210718T080000
DTEND;TZID=Australia/Adelaide:20210718T170000
DTSTAMP:20260425T225738
CREATED:20210521T041858Z
LAST-MODIFIED:20210521T041858Z
UID:1965-1626595200-1626627600@keithwarmemorialsportscentre.com.au
SUMMARY:KNTNA coaching clinic
DESCRIPTION:
URL:https://keithwarmemorialsportscentre.com.au/event/kntna-coaching-clinic/
CATEGORIES:Stadium
END:VEVENT
BEGIN:VEVENT
DTSTART;TZID=Australia/Adelaide:20210720T170000
DTEND;TZID=Australia/Adelaide:20210720T183000
DTSTAMP:20260425T225738
CREATED:20210428T113101Z
LAST-MODIFIED:20210428T113101Z
UID:1903-1626800400-1626805800@keithwarmemorialsportscentre.com.au
SUMMARY:Netball training
DESCRIPTION:
URL:https://keithwarmemorialsportscentre.com.au/event/netball-training-121/
CATEGORIES:Outside Courts
END:VEVENT
BEGIN:VEVENT
DTSTART;TZID=Australia/Adelaide:20210721T153000
DTEND;TZID=Australia/Adelaide:20210721T183000
DTSTAMP:20260425T225738
CREATED:20210627T123218Z
LAST-MODIFIED:20210627T123218Z
UID:1998-1626881400-1626892200@keithwarmemorialsportscentre.com.au
SUMMARY:BB Junior training
DESCRIPTION:
URL:https://keithwarmemorialsportscentre.com.au/event/bb-junior-training/
CATEGORIES:Stadium
END:VEVENT
BEGIN:VEVENT
DTSTART;TZID=Australia/Adelaide:20210722T153000
DTEND;TZID=Australia/Adelaide:20210722T200000
DTSTAMP:20260425T225738
CREATED:20210428T125332Z
LAST-MODIFIED:20210428T125332Z
UID:1943-1626967800-1626984000@keithwarmemorialsportscentre.com.au
SUMMARY:Netball training
DESCRIPTION:
URL:https://keithwarmemorialsportscentre.com.au/event/netball-training-141/
CATEGORIES:Outside Courts
END:VEVENT
BEGIN:VEVENT
DTSTART;TZID=Australia/Adelaide:20210724T080000
DTEND;TZID=Australia/Adelaide:20210724T170000
DTSTAMP:20260425T225738
CREATED:20210215T233824Z
LAST-MODIFIED:20210215T233824Z
UID:1793-1627113600-1627146000@keithwarmemorialsportscentre.com.au
SUMMARY:Netball home game
DESCRIPTION:
URL:https://keithwarmemorialsportscentre.com.au/event/netball-home-game-7/
CATEGORIES:Stadium
END:VEVENT
BEGIN:VEVENT
DTSTART;TZID=Australia/Adelaide:20210727T170000
DTEND;TZID=Australia/Adelaide:20210727T183000
DTSTAMP:20260425T225738
CREATED:20210428T113155Z
LAST-MODIFIED:20210428T113155Z
UID:1905-1627405200-1627410600@keithwarmemorialsportscentre.com.au
SUMMARY:Netball training
DESCRIPTION:
URL:https://keithwarmemorialsportscentre.com.au/event/netball-training-122/
CATEGORIES:Outside Courts
END:VEVENT
BEGIN:VEVENT
DTSTART;TZID=Australia/Adelaide:20210728T153000
DTEND;TZID=Australia/Adelaide:20210728T183000
DTSTAMP:20260425T225738
CREATED:20210627T123307Z
LAST-MODIFIED:20210627T123307Z
UID:2000-1627486200-1627497000@keithwarmemorialsportscentre.com.au
SUMMARY:BB Junior training
DESCRIPTION:
URL:https://keithwarmemorialsportscentre.com.au/event/bb-junior-training-2/
CATEGORIES:Stadium
END:VEVENT
BEGIN:VEVENT
DTSTART;TZID=Australia/Adelaide:20210729T153000
DTEND;TZID=Australia/Adelaide:20210729T200000
DTSTAMP:20260425T225738
CREATED:20210428T125421Z
LAST-MODIFIED:20210428T125421Z
UID:1945-1627572600-1627588800@keithwarmemorialsportscentre.com.au
SUMMARY:Netball training
DESCRIPTION:
URL:https://keithwarmemorialsportscentre.com.au/event/netball-training-142/
CATEGORIES:Outside Courts
END:VEVENT
END:VCALENDAR