BEGIN:VCALENDAR
VERSION:2.0
PRODID:-//Keith War Memorial Sports Centre - ECPv6.15.20//NONSGML v1.0//EN
CALSCALE:GREGORIAN
METHOD:PUBLISH
X-WR-CALNAME:Keith War Memorial Sports Centre
X-ORIGINAL-URL:https://keithwarmemorialsportscentre.com.au
X-WR-CALDESC:Events for Keith War Memorial Sports Centre
REFRESH-INTERVAL;VALUE=DURATION:PT1H
X-Robots-Tag:noindex
X-PUBLISHED-TTL:PT1H
BEGIN:VTIMEZONE
TZID:Australia/Adelaide
BEGIN:STANDARD
TZOFFSETFROM:+1030
TZOFFSETTO:+0930
TZNAME:ACST
DTSTART:20200404T163000
END:STANDARD
BEGIN:DAYLIGHT
TZOFFSETFROM:+0930
TZOFFSETTO:+1030
TZNAME:ACDT
DTSTART:20201003T163000
END:DAYLIGHT
BEGIN:STANDARD
TZOFFSETFROM:+1030
TZOFFSETTO:+0930
TZNAME:ACST
DTSTART:20210403T163000
END:STANDARD
BEGIN:DAYLIGHT
TZOFFSETFROM:+0930
TZOFFSETTO:+1030
TZNAME:ACDT
DTSTART:20211002T163000
END:DAYLIGHT
BEGIN:STANDARD
TZOFFSETFROM:+1030
TZOFFSETTO:+0930
TZNAME:ACST
DTSTART:20220402T163000
END:STANDARD
BEGIN:DAYLIGHT
TZOFFSETFROM:+0930
TZOFFSETTO:+1030
TZNAME:ACDT
DTSTART:20221001T163000
END:DAYLIGHT
END:VTIMEZONE
BEGIN:VEVENT
DTSTART;TZID=Australia/Adelaide:20210601T090000
DTEND;TZID=Australia/Adelaide:20210601T110000
DTSTAMP:20260426T003619
CREATED:20210601T040811Z
LAST-MODIFIED:20210601T040811Z
UID:1976-1622538000-1622545200@keithwarmemorialsportscentre.com.au
SUMMARY:KAS lesson
DESCRIPTION:
URL:https://keithwarmemorialsportscentre.com.au/event/kas-lesson/
CATEGORIES:Stadium
END:VEVENT
BEGIN:VEVENT
DTSTART;TZID=Australia/Adelaide:20210601T170000
DTEND;TZID=Australia/Adelaide:20210601T183000
DTSTAMP:20260426T003619
CREATED:20210428T112522Z
LAST-MODIFIED:20210428T112522Z
UID:1889-1622566800-1622572200@keithwarmemorialsportscentre.com.au
SUMMARY:Netball training
DESCRIPTION:
URL:https://keithwarmemorialsportscentre.com.au/event/netball-training-104/
CATEGORIES:Outside Courts
END:VEVENT
BEGIN:VEVENT
DTSTART;TZID=Australia/Adelaide:20210602T153000
DTEND;TZID=Australia/Adelaide:20210602T183000
DTSTAMP:20260426T003619
CREATED:20210428T111602Z
LAST-MODIFIED:20210428T111602Z
UID:1879-1622647800-1622658600@keithwarmemorialsportscentre.com.au
SUMMARY:Junior training
DESCRIPTION:
URL:https://keithwarmemorialsportscentre.com.au/event/junior-training-5/
CATEGORIES:Stadium
END:VEVENT
BEGIN:VEVENT
DTSTART;TZID=Australia/Adelaide:20210603T153000
DTEND;TZID=Australia/Adelaide:20210603T200000
DTSTAMP:20260426T003619
CREATED:20210428T124728Z
LAST-MODIFIED:20210428T124728Z
UID:1929-1622734200-1622750400@keithwarmemorialsportscentre.com.au
SUMMARY:Netball training
DESCRIPTION:
URL:https://keithwarmemorialsportscentre.com.au/event/netball-training-134/
CATEGORIES:Outside Courts
END:VEVENT
BEGIN:VEVENT
DTSTART;TZID=Australia/Adelaide:20210604T090000
DTEND;TZID=Australia/Adelaide:20210604T110000
DTSTAMP:20260426T003619
CREATED:20210601T040842Z
LAST-MODIFIED:20210601T040842Z
UID:1978-1622797200-1622804400@keithwarmemorialsportscentre.com.au
SUMMARY:KAS lesson
DESCRIPTION:
URL:https://keithwarmemorialsportscentre.com.au/event/kas-lesson-2/
CATEGORIES:Stadium
END:VEVENT
BEGIN:VEVENT
DTSTART;TZID=Australia/Adelaide:20210608T090000
DTEND;TZID=Australia/Adelaide:20210608T110000
DTSTAMP:20260426T003619
CREATED:20210601T040909Z
LAST-MODIFIED:20210601T040909Z
UID:1980-1623142800-1623150000@keithwarmemorialsportscentre.com.au
SUMMARY:KAS lesson
DESCRIPTION:
URL:https://keithwarmemorialsportscentre.com.au/event/kas-lesson-3/
CATEGORIES:Stadium
END:VEVENT
BEGIN:VEVENT
DTSTART;TZID=Australia/Adelaide:20210608T170000
DTEND;TZID=Australia/Adelaide:20210608T183000
DTSTAMP:20260426T003619
CREATED:20210428T112614Z
LAST-MODIFIED:20210428T112614Z
UID:1891-1623171600-1623177000@keithwarmemorialsportscentre.com.au
SUMMARY:Netball training
DESCRIPTION:
URL:https://keithwarmemorialsportscentre.com.au/event/netball-training-115/
CATEGORIES:Outside Courts
END:VEVENT
BEGIN:VEVENT
DTSTART;TZID=Australia/Adelaide:20210609T153000
DTEND;TZID=Australia/Adelaide:20210609T183000
DTSTAMP:20260426T003619
CREATED:20210428T111653Z
LAST-MODIFIED:20210428T111653Z
UID:1881-1623252600-1623263400@keithwarmemorialsportscentre.com.au
SUMMARY:Junior training
DESCRIPTION:
URL:https://keithwarmemorialsportscentre.com.au/event/junior-training-7/
CATEGORIES:Stadium
END:VEVENT
BEGIN:VEVENT
DTSTART;TZID=Australia/Adelaide:20210610T153000
DTEND;TZID=Australia/Adelaide:20210610T200000
DTSTAMP:20260426T003619
CREATED:20210428T124819Z
LAST-MODIFIED:20210428T124819Z
UID:1931-1623339000-1623355200@keithwarmemorialsportscentre.com.au
SUMMARY:Netball training
DESCRIPTION:
URL:https://keithwarmemorialsportscentre.com.au/event/netball-training-135/
CATEGORIES:Outside Courts
END:VEVENT
BEGIN:VEVENT
DTSTART;TZID=Australia/Adelaide:20210611T090000
DTEND;TZID=Australia/Adelaide:20210611T110000
DTSTAMP:20260426T003619
CREATED:20210601T040936Z
LAST-MODIFIED:20210601T040936Z
UID:1982-1623402000-1623409200@keithwarmemorialsportscentre.com.au
SUMMARY:KAS lesson
DESCRIPTION:
URL:https://keithwarmemorialsportscentre.com.au/event/kas-lesson-4/
CATEGORIES:Stadium
END:VEVENT
BEGIN:VEVENT
DTSTART;TZID=Australia/Adelaide:20210615T090000
DTEND;TZID=Australia/Adelaide:20210615T110000
DTSTAMP:20260426T003619
CREATED:20210601T040959Z
LAST-MODIFIED:20210601T040959Z
UID:1984-1623747600-1623754800@keithwarmemorialsportscentre.com.au
SUMMARY:KAS lesson
DESCRIPTION:
URL:https://keithwarmemorialsportscentre.com.au/event/kas-lesson-5/
CATEGORIES:Stadium
END:VEVENT
BEGIN:VEVENT
DTSTART;TZID=Australia/Adelaide:20210615T170000
DTEND;TZID=Australia/Adelaide:20210615T183000
DTSTAMP:20260426T003619
CREATED:20210428T112657Z
LAST-MODIFIED:20210428T112657Z
UID:1893-1623776400-1623781800@keithwarmemorialsportscentre.com.au
SUMMARY:Netball training
DESCRIPTION:
URL:https://keithwarmemorialsportscentre.com.au/event/netball-training-116/
CATEGORIES:Outside Courts
END:VEVENT
BEGIN:VEVENT
DTSTART;TZID=Australia/Adelaide:20210616T153000
DTEND;TZID=Australia/Adelaide:20210616T183000
DTSTAMP:20260426T003619
CREATED:20210428T111738Z
LAST-MODIFIED:20210428T111738Z
UID:1883-1623857400-1623868200@keithwarmemorialsportscentre.com.au
SUMMARY:Junior training
DESCRIPTION:
URL:https://keithwarmemorialsportscentre.com.au/event/junior-training-8/
CATEGORIES:Stadium
END:VEVENT
BEGIN:VEVENT
DTSTART;TZID=Australia/Adelaide:20210617T153000
DTEND;TZID=Australia/Adelaide:20210617T200000
DTSTAMP:20260426T003619
CREATED:20210428T124908Z
LAST-MODIFIED:20210428T124908Z
UID:1933-1623943800-1623960000@keithwarmemorialsportscentre.com.au
SUMMARY:Netball training
DESCRIPTION:
URL:https://keithwarmemorialsportscentre.com.au/event/netball-training-136/
CATEGORIES:Outside Courts
END:VEVENT
BEGIN:VEVENT
DTSTART;TZID=Australia/Adelaide:20210618T090000
DTEND;TZID=Australia/Adelaide:20210618T110000
DTSTAMP:20260426T003619
CREATED:20210601T041229Z
LAST-MODIFIED:20210601T041229Z
UID:1992-1624006800-1624014000@keithwarmemorialsportscentre.com.au
SUMMARY:KAS lesson
DESCRIPTION:
URL:https://keithwarmemorialsportscentre.com.au/event/kas-lesson-6/
CATEGORIES:Stadium
END:VEVENT
BEGIN:VEVENT
DTSTART;TZID=Australia/Adelaide:20210619T080000
DTEND;TZID=Australia/Adelaide:20210619T170000
DTSTAMP:20260426T003619
CREATED:20210215T233737Z
LAST-MODIFIED:20210215T233737Z
UID:1789-1624089600-1624122000@keithwarmemorialsportscentre.com.au
SUMMARY:Netball home game
DESCRIPTION:
URL:https://keithwarmemorialsportscentre.com.au/event/netball-home-game-5/
CATEGORIES:Stadium
END:VEVENT
BEGIN:VEVENT
DTSTART;TZID=Australia/Adelaide:20210622T090000
DTEND;TZID=Australia/Adelaide:20210622T110000
DTSTAMP:20260426T003619
CREATED:20210601T041053Z
LAST-MODIFIED:20210601T041053Z
UID:1988-1624352400-1624359600@keithwarmemorialsportscentre.com.au
SUMMARY:KAS lesson
DESCRIPTION:
URL:https://keithwarmemorialsportscentre.com.au/event/kas-lesson-7/
CATEGORIES:Stadium
END:VEVENT
BEGIN:VEVENT
DTSTART;TZID=Australia/Adelaide:20210622T170000
DTEND;TZID=Australia/Adelaide:20210622T183000
DTSTAMP:20260426T003619
CREATED:20210428T112740Z
LAST-MODIFIED:20210428T112740Z
UID:1895-1624381200-1624386600@keithwarmemorialsportscentre.com.au
SUMMARY:Netball training
DESCRIPTION:
URL:https://keithwarmemorialsportscentre.com.au/event/netball-training-117/
CATEGORIES:Outside Courts
END:VEVENT
BEGIN:VEVENT
DTSTART;TZID=Australia/Adelaide:20210623T153000
DTEND;TZID=Australia/Adelaide:20210623T183000
DTSTAMP:20260426T003619
CREATED:20210428T111827Z
LAST-MODIFIED:20210428T111827Z
UID:1885-1624462200-1624473000@keithwarmemorialsportscentre.com.au
SUMMARY:Junior training
DESCRIPTION:
URL:https://keithwarmemorialsportscentre.com.au/event/junior-training-9/
CATEGORIES:Stadium
END:VEVENT
BEGIN:VEVENT
DTSTART;TZID=Australia/Adelaide:20210624T153000
DTEND;TZID=Australia/Adelaide:20210624T200000
DTSTAMP:20260426T003619
CREATED:20210428T124956Z
LAST-MODIFIED:20210428T124956Z
UID:1935-1624548600-1624564800@keithwarmemorialsportscentre.com.au
SUMMARY:Netball training
DESCRIPTION:
URL:https://keithwarmemorialsportscentre.com.au/event/netball-training-137/
CATEGORIES:Outside Courts
END:VEVENT
BEGIN:VEVENT
DTSTART;TZID=Australia/Adelaide:20210625T090000
DTEND;TZID=Australia/Adelaide:20210625T110000
DTSTAMP:20260426T003619
CREATED:20210601T041251Z
LAST-MODIFIED:20210601T041251Z
UID:1994-1624611600-1624618800@keithwarmemorialsportscentre.com.au
SUMMARY:KAS lesson
DESCRIPTION:
URL:https://keithwarmemorialsportscentre.com.au/event/kas-lesson-9/
CATEGORIES:Stadium
END:VEVENT
BEGIN:VEVENT
DTSTART;TZID=Australia/Adelaide:20210626T080000
DTEND;TZID=Australia/Adelaide:20210626T170000
DTSTAMP:20260426T003619
CREATED:20210215T233759Z
LAST-MODIFIED:20210215T233759Z
UID:1791-1624694400-1624726800@keithwarmemorialsportscentre.com.au
SUMMARY:Netball home game
DESCRIPTION:
URL:https://keithwarmemorialsportscentre.com.au/event/netball-home-game-6/
CATEGORIES:Stadium
END:VEVENT
BEGIN:VEVENT
DTSTART;TZID=Australia/Adelaide:20210629T100000
DTEND;TZID=Australia/Adelaide:20210629T140000
DTSTAMP:20260426T003619
CREATED:20210628T020410Z
LAST-MODIFIED:20210628T020410Z
UID:2021-1624960800-1624975200@keithwarmemorialsportscentre.com.au
SUMMARY:USE school netball
DESCRIPTION:
URL:https://keithwarmemorialsportscentre.com.au/event/use-school-netball/
CATEGORIES:Outside Courts,Stadium
END:VEVENT
BEGIN:VEVENT
DTSTART;TZID=Australia/Adelaide:20210629T170000
DTEND;TZID=Australia/Adelaide:20210629T183000
DTSTAMP:20260426T003619
CREATED:20210428T112829Z
LAST-MODIFIED:20210428T112829Z
UID:1897-1624986000-1624991400@keithwarmemorialsportscentre.com.au
SUMMARY:Netball training
DESCRIPTION:
URL:https://keithwarmemorialsportscentre.com.au/event/netball-training-118/
CATEGORIES:Outside Courts
END:VEVENT
BEGIN:VEVENT
DTSTART;TZID=Australia/Adelaide:20210630T153000
DTEND;TZID=Australia/Adelaide:20210630T183000
DTSTAMP:20260426T003619
CREATED:20210428T111919Z
LAST-MODIFIED:20210428T111919Z
UID:1887-1625067000-1625077800@keithwarmemorialsportscentre.com.au
SUMMARY:Junior training
DESCRIPTION:
URL:https://keithwarmemorialsportscentre.com.au/event/junior-training-10/
CATEGORIES:Stadium
END:VEVENT
END:VCALENDAR