BEGIN:VCALENDAR
VERSION:2.0
PRODID:-//Keith War Memorial Sports Centre - ECPv6.15.20//NONSGML v1.0//EN
CALSCALE:GREGORIAN
METHOD:PUBLISH
X-ORIGINAL-URL:https://keithwarmemorialsportscentre.com.au
X-WR-CALDESC:Events for Keith War Memorial Sports Centre
REFRESH-INTERVAL;VALUE=DURATION:PT1H
X-Robots-Tag:noindex
X-PUBLISHED-TTL:PT1H
BEGIN:VTIMEZONE
TZID:Australia/Adelaide
BEGIN:STANDARD
TZOFFSETFROM:+1030
TZOFFSETTO:+0930
TZNAME:ACST
DTSTART:20190406T163000
END:STANDARD
BEGIN:DAYLIGHT
TZOFFSETFROM:+0930
TZOFFSETTO:+1030
TZNAME:ACDT
DTSTART:20191005T163000
END:DAYLIGHT
BEGIN:STANDARD
TZOFFSETFROM:+1030
TZOFFSETTO:+0930
TZNAME:ACST
DTSTART:20200404T163000
END:STANDARD
BEGIN:DAYLIGHT
TZOFFSETFROM:+0930
TZOFFSETTO:+1030
TZNAME:ACDT
DTSTART:20201003T163000
END:DAYLIGHT
BEGIN:STANDARD
TZOFFSETFROM:+1030
TZOFFSETTO:+0930
TZNAME:ACST
DTSTART:20210403T163000
END:STANDARD
BEGIN:DAYLIGHT
TZOFFSETFROM:+0930
TZOFFSETTO:+1030
TZNAME:ACDT
DTSTART:20211002T163000
END:DAYLIGHT
END:VTIMEZONE
BEGIN:VEVENT
DTSTART;TZID=Australia/Adelaide:20201102T173000
DTEND;TZID=Australia/Adelaide:20201102T190000
DTSTAMP:20260426T124427
CREATED:20201019T031613Z
LAST-MODIFIED:20201019T031613Z
UID:1636-1604338200-1604343600@keithwarmemorialsportscentre.com.au
SUMMARY:Senior training
DESCRIPTION:
URL:https://keithwarmemorialsportscentre.com.au/event/senior-training-3/
CATEGORIES:Stadium
END:VEVENT
BEGIN:VEVENT
DTSTART;TZID=Australia/Adelaide:20201103T150000
DTEND;TZID=Australia/Adelaide:20201103T200000
DTSTAMP:20260426T124427
CREATED:20200925T035633Z
LAST-MODIFIED:20200925T035633Z
UID:1517-1604415600-1604433600@keithwarmemorialsportscentre.com.au
SUMMARY:Junior BB season
DESCRIPTION:
URL:https://keithwarmemorialsportscentre.com.au/event/junior-bb-season-18/
CATEGORIES:Stadium
END:VEVENT
BEGIN:VEVENT
DTSTART;TZID=Australia/Adelaide:20201104T163000
DTEND;TZID=Australia/Adelaide:20201104T183000
DTSTAMP:20260426T124427
CREATED:20200925T040828Z
LAST-MODIFIED:20200925T042718Z
UID:1547-1604507400-1604514600@keithwarmemorialsportscentre.com.au
SUMMARY:Squad training
DESCRIPTION:
URL:https://keithwarmemorialsportscentre.com.au/event/senior-bb-womens-5/
CATEGORIES:Stadium
END:VEVENT
BEGIN:VEVENT
DTSTART;TZID=Australia/Adelaide:20201104T190000
DTEND;TZID=Australia/Adelaide:20201104T210000
DTSTAMP:20260426T124427
CREATED:20201110T001740Z
LAST-MODIFIED:20201110T001740Z
UID:1706-1604516400-1604523600@keithwarmemorialsportscentre.com.au
SUMMARY:Women's Senior BB
DESCRIPTION:
URL:https://keithwarmemorialsportscentre.com.au/event/womens-senior-bb-4/
CATEGORIES:Stadium
END:VEVENT
BEGIN:VEVENT
DTSTART;TZID=Australia/Adelaide:20201105T173000
DTEND;TZID=Australia/Adelaide:20201105T190000
DTSTAMP:20260426T124427
CREATED:20200925T041733Z
LAST-MODIFIED:20200925T042729Z
UID:1579-1604597400-1604602800@keithwarmemorialsportscentre.com.au
SUMMARY:Squad training
DESCRIPTION:
URL:https://keithwarmemorialsportscentre.com.au/event/senior-bb-mens-10/
CATEGORIES:Stadium
END:VEVENT
BEGIN:VEVENT
DTSTART;TZID=Australia/Adelaide:20201105T190000
DTEND;TZID=Australia/Adelaide:20201105T210000
DTSTAMP:20260426T124427
CREATED:20201110T000812Z
LAST-MODIFIED:20201110T000812Z
UID:1676-1604602800-1604610000@keithwarmemorialsportscentre.com.au
SUMMARY:Mens Senior BB
DESCRIPTION:
URL:https://keithwarmemorialsportscentre.com.au/event/mens-senior-bb-4/
CATEGORIES:Stadium
END:VEVENT
BEGIN:VEVENT
DTSTART;TZID=Australia/Adelaide:20201109T173000
DTEND;TZID=Australia/Adelaide:20201109T190000
DTSTAMP:20260426T124427
CREATED:20201019T031637Z
LAST-MODIFIED:20201019T031637Z
UID:1638-1604943000-1604948400@keithwarmemorialsportscentre.com.au
SUMMARY:Senior training
DESCRIPTION:
URL:https://keithwarmemorialsportscentre.com.au/event/senior-training-4/
CATEGORIES:Stadium
END:VEVENT
BEGIN:VEVENT
DTSTART;TZID=Australia/Adelaide:20201109T190000
DTEND;TZID=Australia/Adelaide:20201109T210000
DTSTAMP:20260426T124427
CREATED:20210208T052442Z
LAST-MODIFIED:20210208T052442Z
UID:1774-1604948400-1604955600@keithwarmemorialsportscentre.com.au
SUMMARY:Tennis club
DESCRIPTION:
URL:https://keithwarmemorialsportscentre.com.au/event/tennis-club-17/
CATEGORIES:Meeting Room
END:VEVENT
BEGIN:VEVENT
DTSTART;TZID=Australia/Adelaide:20201110T150000
DTEND;TZID=Australia/Adelaide:20201110T200000
DTSTAMP:20260426T124427
CREATED:20200925T035658Z
LAST-MODIFIED:20200925T035658Z
UID:1519-1605020400-1605038400@keithwarmemorialsportscentre.com.au
SUMMARY:Junior BB season
DESCRIPTION:
URL:https://keithwarmemorialsportscentre.com.au/event/junior-bb-season-19/
CATEGORIES:Stadium
END:VEVENT
BEGIN:VEVENT
DTSTART;TZID=Australia/Adelaide:20201111T163000
DTEND;TZID=Australia/Adelaide:20201111T183000
DTSTAMP:20260426T124427
CREATED:20200925T040902Z
LAST-MODIFIED:20200925T042739Z
UID:1549-1605112200-1605119400@keithwarmemorialsportscentre.com.au
SUMMARY:Squad training
DESCRIPTION:
URL:https://keithwarmemorialsportscentre.com.au/event/senior-bb-womens-6/
CATEGORIES:Stadium
END:VEVENT
BEGIN:VEVENT
DTSTART;TZID=Australia/Adelaide:20201111T190000
DTEND;TZID=Australia/Adelaide:20201111T210000
DTSTAMP:20260426T124427
CREATED:20201110T001801Z
LAST-MODIFIED:20201110T001801Z
UID:1708-1605121200-1605128400@keithwarmemorialsportscentre.com.au
SUMMARY:Women's Senior BB
DESCRIPTION:
URL:https://keithwarmemorialsportscentre.com.au/event/womens-senior-bb-5/
CATEGORIES:Stadium
END:VEVENT
BEGIN:VEVENT
DTSTART;TZID=Australia/Adelaide:20201112T173000
DTEND;TZID=Australia/Adelaide:20201112T190000
DTSTAMP:20260426T124427
CREATED:20200925T041803Z
LAST-MODIFIED:20200925T042747Z
UID:1581-1605202200-1605207600@keithwarmemorialsportscentre.com.au
SUMMARY:Squad training
DESCRIPTION:
URL:https://keithwarmemorialsportscentre.com.au/event/senior-bb-mens-11/
CATEGORIES:Stadium
END:VEVENT
BEGIN:VEVENT
DTSTART;TZID=Australia/Adelaide:20201112T190000
DTEND;TZID=Australia/Adelaide:20201112T210000
DTSTAMP:20260426T124427
CREATED:20201110T000844Z
LAST-MODIFIED:20201110T000844Z
UID:1678-1605207600-1605214800@keithwarmemorialsportscentre.com.au
SUMMARY:Mens Senior BB
DESCRIPTION:
URL:https://keithwarmemorialsportscentre.com.au/event/mens-senior-bb-5/
CATEGORIES:Stadium
END:VEVENT
BEGIN:VEVENT
DTSTART;TZID=Australia/Adelaide:20201116T173000
DTEND;TZID=Australia/Adelaide:20201116T190000
DTSTAMP:20260426T124427
CREATED:20201019T031700Z
LAST-MODIFIED:20201019T031700Z
UID:1640-1605547800-1605553200@keithwarmemorialsportscentre.com.au
SUMMARY:Senior training
DESCRIPTION:
URL:https://keithwarmemorialsportscentre.com.au/event/senior-training-5/
CATEGORIES:Stadium
END:VEVENT
BEGIN:VEVENT
DTSTART;TZID=Australia/Adelaide:20201116T193000
DTEND;TZID=Australia/Adelaide:20201116T213000
DTSTAMP:20260426T124427
CREATED:20201116T222328Z
LAST-MODIFIED:20201116T222328Z
UID:1734-1605555000-1605562200@keithwarmemorialsportscentre.com.au
SUMMARY:KWMSC com meeting
DESCRIPTION:
URL:https://keithwarmemorialsportscentre.com.au/event/kwmsc-com-meeting/
CATEGORIES:Meeting Room
END:VEVENT
BEGIN:VEVENT
DTSTART;TZID=Australia/Adelaide:20201117T150000
DTEND;TZID=Australia/Adelaide:20201117T200000
DTSTAMP:20260426T124427
CREATED:20200925T035722Z
LAST-MODIFIED:20200925T035722Z
UID:1521-1605625200-1605643200@keithwarmemorialsportscentre.com.au
SUMMARY:Junior BB season
DESCRIPTION:
URL:https://keithwarmemorialsportscentre.com.au/event/junior-bb-season-20/
CATEGORIES:Stadium
END:VEVENT
BEGIN:VEVENT
DTSTART;TZID=Australia/Adelaide:20201117T190000
DTEND;TZID=Australia/Adelaide:20201117T210000
DTSTAMP:20260426T124427
CREATED:20201116T222153Z
LAST-MODIFIED:20201116T222153Z
UID:1732-1605639600-1605646800@keithwarmemorialsportscentre.com.au
SUMMARY:Meeting room booking
DESCRIPTION:
URL:https://keithwarmemorialsportscentre.com.au/event/meeting-room-booking-3/
CATEGORIES:Meeting Room
END:VEVENT
BEGIN:VEVENT
DTSTART;TZID=Australia/Adelaide:20201118T163000
DTEND;TZID=Australia/Adelaide:20201118T183000
DTSTAMP:20260426T124427
CREATED:20200925T040927Z
LAST-MODIFIED:20200925T043825Z
UID:1551-1605717000-1605724200@keithwarmemorialsportscentre.com.au
SUMMARY:Squad training
DESCRIPTION:
URL:https://keithwarmemorialsportscentre.com.au/event/senior-bb-womens-7/
CATEGORIES:Stadium
END:VEVENT
BEGIN:VEVENT
DTSTART;TZID=Australia/Adelaide:20201118T190000
DTEND;TZID=Australia/Adelaide:20201118T210000
DTSTAMP:20260426T124427
CREATED:20201110T001822Z
LAST-MODIFIED:20201110T001822Z
UID:1710-1605726000-1605733200@keithwarmemorialsportscentre.com.au
SUMMARY:Women's Senior BB
DESCRIPTION:
URL:https://keithwarmemorialsportscentre.com.au/event/womens-senior-bb-6/
CATEGORIES:Stadium
END:VEVENT
BEGIN:VEVENT
DTSTART;TZID=Australia/Adelaide:20201119T173000
DTEND;TZID=Australia/Adelaide:20201119T190000
DTSTAMP:20260426T124427
CREATED:20200925T041831Z
LAST-MODIFIED:20200925T042811Z
UID:1583-1605807000-1605812400@keithwarmemorialsportscentre.com.au
SUMMARY:Squad training
DESCRIPTION:
URL:https://keithwarmemorialsportscentre.com.au/event/senior-bb-mens-12/
CATEGORIES:Stadium
END:VEVENT
BEGIN:VEVENT
DTSTART;TZID=Australia/Adelaide:20201119T190000
DTEND;TZID=Australia/Adelaide:20201119T210000
DTSTAMP:20260426T124427
CREATED:20201110T000904Z
LAST-MODIFIED:20201110T000904Z
UID:1680-1605812400-1605819600@keithwarmemorialsportscentre.com.au
SUMMARY:Mens Senior BB
DESCRIPTION:
URL:https://keithwarmemorialsportscentre.com.au/event/mens-senior-bb-6/
CATEGORIES:Stadium
END:VEVENT
BEGIN:VEVENT
DTSTART;TZID=Australia/Adelaide:20201123T173000
DTEND;TZID=Australia/Adelaide:20201123T190000
DTSTAMP:20260426T124427
CREATED:20201019T031725Z
LAST-MODIFIED:20201019T031725Z
UID:1642-1606152600-1606158000@keithwarmemorialsportscentre.com.au
SUMMARY:Senior training
DESCRIPTION:
URL:https://keithwarmemorialsportscentre.com.au/event/senior-training-6/
CATEGORIES:Stadium
END:VEVENT
BEGIN:VEVENT
DTSTART;TZID=Australia/Adelaide:20201124T150000
DTEND;TZID=Australia/Adelaide:20201124T200000
DTSTAMP:20260426T124427
CREATED:20200925T035748Z
LAST-MODIFIED:20200925T035748Z
UID:1523-1606230000-1606248000@keithwarmemorialsportscentre.com.au
SUMMARY:Junior BB season
DESCRIPTION:
URL:https://keithwarmemorialsportscentre.com.au/event/junior-bb-season-21/
CATEGORIES:Stadium
END:VEVENT
BEGIN:VEVENT
DTSTART;TZID=Australia/Adelaide:20201125T163000
DTEND;TZID=Australia/Adelaide:20201125T183000
DTSTAMP:20260426T124427
CREATED:20200925T040952Z
LAST-MODIFIED:20200925T042821Z
UID:1553-1606321800-1606329000@keithwarmemorialsportscentre.com.au
SUMMARY:Squad training
DESCRIPTION:
URL:https://keithwarmemorialsportscentre.com.au/event/senior-bb-womens-8/
CATEGORIES:Stadium
END:VEVENT
BEGIN:VEVENT
DTSTART;TZID=Australia/Adelaide:20201125T190000
DTEND;TZID=Australia/Adelaide:20201125T210000
DTSTAMP:20260426T124427
CREATED:20201110T001842Z
LAST-MODIFIED:20201110T001842Z
UID:1712-1606330800-1606338000@keithwarmemorialsportscentre.com.au
SUMMARY:Women's Senior BB
DESCRIPTION:
URL:https://keithwarmemorialsportscentre.com.au/event/womens-senior-bb-7/
CATEGORIES:Stadium
END:VEVENT
BEGIN:VEVENT
DTSTART;TZID=Australia/Adelaide:20201126T173000
DTEND;TZID=Australia/Adelaide:20201126T190000
DTSTAMP:20260426T124427
CREATED:20200925T041913Z
LAST-MODIFIED:20200925T043037Z
UID:1585-1606411800-1606417200@keithwarmemorialsportscentre.com.au
SUMMARY:Squad training
DESCRIPTION:
URL:https://keithwarmemorialsportscentre.com.au/event/senior-bb-mens-13/
CATEGORIES:Stadium
END:VEVENT
BEGIN:VEVENT
DTSTART;TZID=Australia/Adelaide:20201126T190000
DTEND;TZID=Australia/Adelaide:20201126T210000
DTSTAMP:20260426T124427
CREATED:20201110T000924Z
LAST-MODIFIED:20201110T000924Z
UID:1682-1606417200-1606424400@keithwarmemorialsportscentre.com.au
SUMMARY:Mens Senior BB
DESCRIPTION:
URL:https://keithwarmemorialsportscentre.com.au/event/mens-senior-bb-7/
CATEGORIES:Stadium
END:VEVENT
BEGIN:VEVENT
DTSTART;TZID=Australia/Adelaide:20201130T173000
DTEND;TZID=Australia/Adelaide:20201130T190000
DTSTAMP:20260426T124427
CREATED:20201019T031750Z
LAST-MODIFIED:20201019T031750Z
UID:1644-1606757400-1606762800@keithwarmemorialsportscentre.com.au
SUMMARY:Senior training
DESCRIPTION:
URL:https://keithwarmemorialsportscentre.com.au/event/senior-training-7/
CATEGORIES:Stadium
END:VEVENT
END:VCALENDAR