BEGIN:VCALENDAR
VERSION:2.0
PRODID:-//Keith War Memorial Sports Centre - ECPv6.15.20//NONSGML v1.0//EN
CALSCALE:GREGORIAN
METHOD:PUBLISH
X-WR-CALNAME:Keith War Memorial Sports Centre
X-ORIGINAL-URL:https://keithwarmemorialsportscentre.com.au
X-WR-CALDESC:Events for Keith War Memorial Sports Centre
REFRESH-INTERVAL;VALUE=DURATION:PT1H
X-Robots-Tag:noindex
X-PUBLISHED-TTL:PT1H
BEGIN:VTIMEZONE
TZID:Australia/Adelaide
BEGIN:STANDARD
TZOFFSETFROM:+1030
TZOFFSETTO:+0930
TZNAME:ACST
DTSTART:20220402T163000
END:STANDARD
BEGIN:DAYLIGHT
TZOFFSETFROM:+0930
TZOFFSETTO:+1030
TZNAME:ACDT
DTSTART:20221001T163000
END:DAYLIGHT
BEGIN:STANDARD
TZOFFSETFROM:+1030
TZOFFSETTO:+0930
TZNAME:ACST
DTSTART:20230401T163000
END:STANDARD
BEGIN:DAYLIGHT
TZOFFSETFROM:+0930
TZOFFSETTO:+1030
TZNAME:ACDT
DTSTART:20230930T163000
END:DAYLIGHT
BEGIN:STANDARD
TZOFFSETFROM:+1030
TZOFFSETTO:+0930
TZNAME:ACST
DTSTART:20240406T163000
END:STANDARD
BEGIN:DAYLIGHT
TZOFFSETFROM:+0930
TZOFFSETTO:+1030
TZNAME:ACDT
DTSTART:20241005T163000
END:DAYLIGHT
END:VTIMEZONE
BEGIN:VEVENT
DTSTART;TZID=Australia/Adelaide:20230201T170000
DTEND;TZID=Australia/Adelaide:20230201T180000
DTSTAMP:20260423T201634
CREATED:20221031T023515Z
LAST-MODIFIED:20221031T023515Z
UID:2391-1675270800-1675274400@keithwarmemorialsportscentre.com.au
SUMMARY:Junior Bb training
DESCRIPTION:
URL:https://keithwarmemorialsportscentre.com.au/event/junior-bb-training-24/
CATEGORIES:Stadium
END:VEVENT
BEGIN:VEVENT
DTSTART;TZID=Australia/Adelaide:20230201T190000
DTEND;TZID=Australia/Adelaide:20230201T213000
DTSTAMP:20260423T201634
CREATED:20221031T030416Z
LAST-MODIFIED:20221031T030416Z
UID:2465-1675278000-1675287000@keithwarmemorialsportscentre.com.au
SUMMARY:BB club
DESCRIPTION:
URL:https://keithwarmemorialsportscentre.com.au/event/bb-club-31/
CATEGORIES:Stadium
END:VEVENT
BEGIN:VEVENT
DTSTART;TZID=Australia/Adelaide:20230202T153000
DTEND;TZID=Australia/Adelaide:20230202T183000
DTSTAMP:20260423T201634
CREATED:20221031T022259Z
LAST-MODIFIED:20221031T022259Z
UID:2362-1675351800-1675362600@keithwarmemorialsportscentre.com.au
SUMMARY:Junior BB training
DESCRIPTION:
URL:https://keithwarmemorialsportscentre.com.au/event/junior-bb-training-10/
CATEGORIES:Stadium
END:VEVENT
BEGIN:VEVENT
DTSTART;TZID=Australia/Adelaide:20230202T183000
DTEND;TZID=Australia/Adelaide:20230202T213000
DTSTAMP:20260423T201634
CREATED:20221031T024853Z
LAST-MODIFIED:20221031T024853Z
UID:2425-1675362600-1675373400@keithwarmemorialsportscentre.com.au
SUMMARY:BB club
DESCRIPTION:
URL:https://keithwarmemorialsportscentre.com.au/event/bb-club-11/
CATEGORIES:Stadium
END:VEVENT
BEGIN:VEVENT
DTSTART;TZID=Australia/Adelaide:20230207T153000
DTEND;TZID=Australia/Adelaide:20230207T203000
DTSTAMP:20260423T201634
CREATED:20221031T021116Z
LAST-MODIFIED:20221031T021116Z
UID:2352-1675783800-1675801800@keithwarmemorialsportscentre.com.au
SUMMARY:Junior BB
DESCRIPTION:
URL:https://keithwarmemorialsportscentre.com.au/event/junior-bb-22/
CATEGORIES:Stadium
END:VEVENT
BEGIN:VEVENT
DTSTART;TZID=Australia/Adelaide:20230208T170000
DTEND;TZID=Australia/Adelaide:20230208T180000
DTSTAMP:20260423T201634
CREATED:20221031T023603Z
LAST-MODIFIED:20221031T023603Z
UID:2393-1675875600-1675879200@keithwarmemorialsportscentre.com.au
SUMMARY:Junior Bb training
DESCRIPTION:
URL:https://keithwarmemorialsportscentre.com.au/event/junior-bb-training-25/
CATEGORIES:Stadium
END:VEVENT
BEGIN:VEVENT
DTSTART;TZID=Australia/Adelaide:20230208T190000
DTEND;TZID=Australia/Adelaide:20230208T213000
DTSTAMP:20260423T201634
CREATED:20221031T030054Z
LAST-MODIFIED:20221031T030054Z
UID:2457-1675882800-1675891800@keithwarmemorialsportscentre.com.au
SUMMARY:BB club
DESCRIPTION:
URL:https://keithwarmemorialsportscentre.com.au/event/bb-club-27/
CATEGORIES:Stadium
END:VEVENT
BEGIN:VEVENT
DTSTART;TZID=Australia/Adelaide:20230209T153000
DTEND;TZID=Australia/Adelaide:20230209T183000
DTSTAMP:20260423T201634
CREATED:20221031T022328Z
LAST-MODIFIED:20221031T022328Z
UID:2364-1675956600-1675967400@keithwarmemorialsportscentre.com.au
SUMMARY:Junior BB training
DESCRIPTION:
URL:https://keithwarmemorialsportscentre.com.au/event/junior-bb-training-11/
CATEGORIES:Stadium
END:VEVENT
BEGIN:VEVENT
DTSTART;TZID=Australia/Adelaide:20230209T183000
DTEND;TZID=Australia/Adelaide:20230209T213000
DTSTAMP:20260423T201634
CREATED:20221031T024928Z
LAST-MODIFIED:20221031T024928Z
UID:2427-1675967400-1675978200@keithwarmemorialsportscentre.com.au
SUMMARY:BB club
DESCRIPTION:
URL:https://keithwarmemorialsportscentre.com.au/event/bb-club-12/
CATEGORIES:Stadium
END:VEVENT
BEGIN:VEVENT
DTSTART;TZID=Australia/Adelaide:20230214T153000
DTEND;TZID=Australia/Adelaide:20230214T203000
DTSTAMP:20260423T201634
CREATED:20221031T021146Z
LAST-MODIFIED:20221031T021637Z
UID:2354-1676388600-1676406600@keithwarmemorialsportscentre.com.au
SUMMARY:Junior BB
DESCRIPTION:
URL:https://keithwarmemorialsportscentre.com.au/event/junior-bb-23/
CATEGORIES:Stadium
END:VEVENT
BEGIN:VEVENT
DTSTART;TZID=Australia/Adelaide:20230215T170000
DTEND;TZID=Australia/Adelaide:20230215T180000
DTSTAMP:20260423T201634
CREATED:20221031T023633Z
LAST-MODIFIED:20221031T023633Z
UID:2395-1676480400-1676484000@keithwarmemorialsportscentre.com.au
SUMMARY:Junior Bb training
DESCRIPTION:
URL:https://keithwarmemorialsportscentre.com.au/event/junior-bb-training-26/
CATEGORIES:Stadium
END:VEVENT
BEGIN:VEVENT
DTSTART;TZID=Australia/Adelaide:20230215T190000
DTEND;TZID=Australia/Adelaide:20230215T213000
DTSTAMP:20260423T201634
CREATED:20221031T030131Z
LAST-MODIFIED:20221031T030131Z
UID:2459-1676487600-1676496600@keithwarmemorialsportscentre.com.au
SUMMARY:BB club
DESCRIPTION:
URL:https://keithwarmemorialsportscentre.com.au/event/bb-club-28/
CATEGORIES:Stadium
END:VEVENT
BEGIN:VEVENT
DTSTART;TZID=Australia/Adelaide:20230216T153000
DTEND;TZID=Australia/Adelaide:20230216T183000
DTSTAMP:20260423T201634
CREATED:20221031T022358Z
LAST-MODIFIED:20221031T022358Z
UID:2366-1676561400-1676572200@keithwarmemorialsportscentre.com.au
SUMMARY:Junior BB training
DESCRIPTION:
URL:https://keithwarmemorialsportscentre.com.au/event/junior-bb-training-12/
CATEGORIES:Stadium
END:VEVENT
BEGIN:VEVENT
DTSTART;TZID=Australia/Adelaide:20230216T183000
DTEND;TZID=Australia/Adelaide:20230216T213000
DTSTAMP:20260423T201634
CREATED:20221031T024956Z
LAST-MODIFIED:20221031T024956Z
UID:2429-1676572200-1676583000@keithwarmemorialsportscentre.com.au
SUMMARY:BB club
DESCRIPTION:
URL:https://keithwarmemorialsportscentre.com.au/event/bb-club-13/
CATEGORIES:Stadium
END:VEVENT
BEGIN:VEVENT
DTSTART;TZID=Australia/Adelaide:20230221T153000
DTEND;TZID=Australia/Adelaide:20230221T203000
DTSTAMP:20260423T201634
CREATED:20221031T021221Z
LAST-MODIFIED:20221031T021221Z
UID:2356-1676993400-1677011400@keithwarmemorialsportscentre.com.au
SUMMARY:Junior BB
DESCRIPTION:
URL:https://keithwarmemorialsportscentre.com.au/event/junior-bb-24/
CATEGORIES:Stadium
END:VEVENT
BEGIN:VEVENT
DTSTART;TZID=Australia/Adelaide:20230222T170000
DTEND;TZID=Australia/Adelaide:20230222T180000
DTSTAMP:20260423T201634
CREATED:20221031T023701Z
LAST-MODIFIED:20221031T023701Z
UID:2397-1677085200-1677088800@keithwarmemorialsportscentre.com.au
SUMMARY:Junior Bb training
DESCRIPTION:
URL:https://keithwarmemorialsportscentre.com.au/event/junior-bb-training-27/
CATEGORIES:Stadium
END:VEVENT
BEGIN:VEVENT
DTSTART;TZID=Australia/Adelaide:20230222T190000
DTEND;TZID=Australia/Adelaide:20230222T213000
DTSTAMP:20260423T201634
CREATED:20221031T030202Z
LAST-MODIFIED:20221031T030202Z
UID:2461-1677092400-1677101400@keithwarmemorialsportscentre.com.au
SUMMARY:BB club
DESCRIPTION:
URL:https://keithwarmemorialsportscentre.com.au/event/bb-club-29/
CATEGORIES:Stadium
END:VEVENT
BEGIN:VEVENT
DTSTART;TZID=Australia/Adelaide:20230223T153000
DTEND;TZID=Australia/Adelaide:20230223T183000
DTSTAMP:20260423T201634
CREATED:20221031T022433Z
LAST-MODIFIED:20221031T022433Z
UID:2368-1677166200-1677177000@keithwarmemorialsportscentre.com.au
SUMMARY:Junior BB training
DESCRIPTION:
URL:https://keithwarmemorialsportscentre.com.au/event/junior-bb-training-13/
CATEGORIES:Stadium
END:VEVENT
BEGIN:VEVENT
DTSTART;TZID=Australia/Adelaide:20230223T183000
DTEND;TZID=Australia/Adelaide:20230223T213000
DTSTAMP:20260423T201634
CREATED:20221031T025026Z
LAST-MODIFIED:20221031T025026Z
UID:2431-1677177000-1677187800@keithwarmemorialsportscentre.com.au
SUMMARY:BB club
DESCRIPTION:
URL:https://keithwarmemorialsportscentre.com.au/event/bb-club-14/
CATEGORIES:Stadium
END:VEVENT
BEGIN:VEVENT
DTSTART;TZID=Australia/Adelaide:20230224T093000
DTEND;TZID=Australia/Adelaide:20230224T103000
DTSTAMP:20260423T201634
CREATED:20230227T051321Z
LAST-MODIFIED:20230227T051321Z
UID:2527-1677231000-1677234600@keithwarmemorialsportscentre.com.au
SUMMARY:Private hire
DESCRIPTION:
URL:https://keithwarmemorialsportscentre.com.au/event/private-hire/
CATEGORIES:Stadium
END:VEVENT
BEGIN:VEVENT
DTSTART;TZID=Australia/Adelaide:20230228T153000
DTEND;TZID=Australia/Adelaide:20230228T203000
DTSTAMP:20260423T201634
CREATED:20221031T021251Z
LAST-MODIFIED:20221031T021251Z
UID:2358-1677598200-1677616200@keithwarmemorialsportscentre.com.au
SUMMARY:Junior BB
DESCRIPTION:
URL:https://keithwarmemorialsportscentre.com.au/event/junior-bb-25/
CATEGORIES:Stadium
END:VEVENT
END:VCALENDAR