BEGIN:VCALENDAR
VERSION:2.0
PRODID:-//Keith War Memorial Sports Centre - ECPv6.15.20//NONSGML v1.0//EN
CALSCALE:GREGORIAN
METHOD:PUBLISH
X-ORIGINAL-URL:https://keithwarmemorialsportscentre.com.au
X-WR-CALDESC:Events for Keith War Memorial Sports Centre
REFRESH-INTERVAL;VALUE=DURATION:PT1H
X-Robots-Tag:noindex
X-PUBLISHED-TTL:PT1H
BEGIN:VTIMEZONE
TZID:Australia/Adelaide
BEGIN:STANDARD
TZOFFSETFROM:+1030
TZOFFSETTO:+0930
TZNAME:ACST
DTSTART:20210403T163000
END:STANDARD
BEGIN:DAYLIGHT
TZOFFSETFROM:+0930
TZOFFSETTO:+1030
TZNAME:ACDT
DTSTART:20211002T163000
END:DAYLIGHT
BEGIN:STANDARD
TZOFFSETFROM:+1030
TZOFFSETTO:+0930
TZNAME:ACST
DTSTART:20220402T163000
END:STANDARD
BEGIN:DAYLIGHT
TZOFFSETFROM:+0930
TZOFFSETTO:+1030
TZNAME:ACDT
DTSTART:20221001T163000
END:DAYLIGHT
BEGIN:STANDARD
TZOFFSETFROM:+1030
TZOFFSETTO:+0930
TZNAME:ACST
DTSTART:20230401T163000
END:STANDARD
BEGIN:DAYLIGHT
TZOFFSETFROM:+0930
TZOFFSETTO:+1030
TZNAME:ACDT
DTSTART:20230930T163000
END:DAYLIGHT
END:VTIMEZONE
BEGIN:VEVENT
DTSTART;TZID=Australia/Adelaide:20221101T153000
DTEND;TZID=Australia/Adelaide:20221101T183000
DTSTAMP:20260424T011616
CREATED:20221031T020628Z
LAST-MODIFIED:20221031T020628Z
UID:2336-1667316600-1667327400@keithwarmemorialsportscentre.com.au
SUMMARY:Junior BB
DESCRIPTION:
URL:https://keithwarmemorialsportscentre.com.au/event/junior-bb-14/
CATEGORIES:Stadium
END:VEVENT
BEGIN:VEVENT
DTSTART;TZID=Australia/Adelaide:20221101T190000
DTEND;TZID=Australia/Adelaide:20221101T213000
DTSTAMP:20260424T011616
CREATED:20221031T030013Z
LAST-MODIFIED:20221031T030013Z
UID:2455-1667329200-1667338200@keithwarmemorialsportscentre.com.au
SUMMARY:BB club
DESCRIPTION:
URL:https://keithwarmemorialsportscentre.com.au/event/bb-club-26/
CATEGORIES:Stadium
END:VEVENT
BEGIN:VEVENT
DTSTART;TZID=Australia/Adelaide:20221102T170000
DTEND;TZID=Australia/Adelaide:20221102T180000
DTSTAMP:20260424T011616
CREATED:20221031T023036Z
LAST-MODIFIED:20221031T023418Z
UID:2377-1667408400-1667412000@keithwarmemorialsportscentre.com.au
SUMMARY:Junior Bb training
DESCRIPTION:
URL:https://keithwarmemorialsportscentre.com.au/event/junior-bb-training-17/
CATEGORIES:Stadium
END:VEVENT
BEGIN:VEVENT
DTSTART;TZID=Australia/Adelaide:20221102T190000
DTEND;TZID=Australia/Adelaide:20221102T213000
DTSTAMP:20260424T011616
CREATED:20221031T025508Z
LAST-MODIFIED:20221031T025508Z
UID:2439-1667415600-1667424600@keithwarmemorialsportscentre.com.au
SUMMARY:BB club
DESCRIPTION:
URL:https://keithwarmemorialsportscentre.com.au/event/bb-club-18/
CATEGORIES:Stadium
END:VEVENT
BEGIN:VEVENT
DTSTART;TZID=Australia/Adelaide:20221103T153000
DTEND;TZID=Australia/Adelaide:20221103T183000
DTSTAMP:20260424T011616
CREATED:20221031T020057Z
LAST-MODIFIED:20221031T020057Z
UID:2318-1667489400-1667500200@keithwarmemorialsportscentre.com.au
SUMMARY:Junior BB training
DESCRIPTION:
URL:https://keithwarmemorialsportscentre.com.au/event/junior-bb-training-3/
CATEGORIES:Stadium
END:VEVENT
BEGIN:VEVENT
DTSTART;TZID=Australia/Adelaide:20221103T183000
DTEND;TZID=Australia/Adelaide:20221103T213000
DTSTAMP:20260424T011616
CREATED:20221031T024254Z
LAST-MODIFIED:20221031T024254Z
UID:2409-1667500200-1667511000@keithwarmemorialsportscentre.com.au
SUMMARY:BB club
DESCRIPTION:
URL:https://keithwarmemorialsportscentre.com.au/event/bb-club-3/
CATEGORIES:Stadium
END:VEVENT
BEGIN:VEVENT
DTSTART;TZID=Australia/Adelaide:20221108T153000
DTEND;TZID=Australia/Adelaide:20221108T203000
DTSTAMP:20260424T011616
CREATED:20221031T020705Z
LAST-MODIFIED:20221031T020705Z
UID:2338-1667921400-1667939400@keithwarmemorialsportscentre.com.au
SUMMARY:Junior BB
DESCRIPTION:
URL:https://keithwarmemorialsportscentre.com.au/event/junior-bb-15/
CATEGORIES:Stadium
END:VEVENT
BEGIN:VEVENT
DTSTART;TZID=Australia/Adelaide:20221109T170000
DTEND;TZID=Australia/Adelaide:20221109T180000
DTSTAMP:20260424T011616
CREATED:20221031T023058Z
LAST-MODIFIED:20221031T023058Z
UID:2379-1668013200-1668016800@keithwarmemorialsportscentre.com.au
SUMMARY:Junior Bb training
DESCRIPTION:
URL:https://keithwarmemorialsportscentre.com.au/event/junior-bb-training-18/
CATEGORIES:Stadium
END:VEVENT
BEGIN:VEVENT
DTSTART;TZID=Australia/Adelaide:20221109T190000
DTEND;TZID=Australia/Adelaide:20221109T213000
DTSTAMP:20260424T011616
CREATED:20221031T025539Z
LAST-MODIFIED:20221031T025539Z
UID:2441-1668020400-1668029400@keithwarmemorialsportscentre.com.au
SUMMARY:BB club
DESCRIPTION:
URL:https://keithwarmemorialsportscentre.com.au/event/bb-club-19/
CATEGORIES:Stadium
END:VEVENT
BEGIN:VEVENT
DTSTART;TZID=Australia/Adelaide:20221110T153000
DTEND;TZID=Australia/Adelaide:20221110T183000
DTSTAMP:20260424T011616
CREATED:20221031T020235Z
LAST-MODIFIED:20221031T020235Z
UID:2320-1668094200-1668105000@keithwarmemorialsportscentre.com.au
SUMMARY:Junior BB training
DESCRIPTION:
URL:https://keithwarmemorialsportscentre.com.au/event/junior-bb-training-4/
CATEGORIES:Stadium
END:VEVENT
BEGIN:VEVENT
DTSTART;TZID=Australia/Adelaide:20221110T183000
DTEND;TZID=Australia/Adelaide:20221110T213000
DTSTAMP:20260424T011616
CREATED:20221031T024534Z
LAST-MODIFIED:20221031T024534Z
UID:2413-1668105000-1668115800@keithwarmemorialsportscentre.com.au
SUMMARY:BB club
DESCRIPTION:
URL:https://keithwarmemorialsportscentre.com.au/event/bb-club-5/
CATEGORIES:Stadium
END:VEVENT
BEGIN:VEVENT
DTSTART;TZID=Australia/Adelaide:20221115T153000
DTEND;TZID=Australia/Adelaide:20221115T203000
DTSTAMP:20260424T011616
CREATED:20221031T020731Z
LAST-MODIFIED:20221031T021446Z
UID:2340-1668526200-1668544200@keithwarmemorialsportscentre.com.au
SUMMARY:Junior BB
DESCRIPTION:
URL:https://keithwarmemorialsportscentre.com.au/event/junior-bb-16/
CATEGORIES:Stadium
END:VEVENT
BEGIN:VEVENT
DTSTART;TZID=Australia/Adelaide:20221116T170000
DTEND;TZID=Australia/Adelaide:20221116T180000
DTSTAMP:20260424T011616
CREATED:20221031T023124Z
LAST-MODIFIED:20221031T023124Z
UID:2381-1668618000-1668621600@keithwarmemorialsportscentre.com.au
SUMMARY:Junior Bb training
DESCRIPTION:
URL:https://keithwarmemorialsportscentre.com.au/event/junior-bb-training-19/
CATEGORIES:Stadium
END:VEVENT
BEGIN:VEVENT
DTSTART;TZID=Australia/Adelaide:20221116T190000
DTEND;TZID=Australia/Adelaide:20221116T213000
DTSTAMP:20260424T011616
CREATED:20221031T025604Z
LAST-MODIFIED:20221031T025604Z
UID:2443-1668625200-1668634200@keithwarmemorialsportscentre.com.au
SUMMARY:BB club
DESCRIPTION:
URL:https://keithwarmemorialsportscentre.com.au/event/bb-club-20/
CATEGORIES:Stadium
END:VEVENT
BEGIN:VEVENT
DTSTART;TZID=Australia/Adelaide:20221117T153000
DTEND;TZID=Australia/Adelaide:20221117T183000
DTSTAMP:20260424T011616
CREATED:20221031T020300Z
LAST-MODIFIED:20221031T020300Z
UID:2322-1668699000-1668709800@keithwarmemorialsportscentre.com.au
SUMMARY:Junior BB training
DESCRIPTION:
URL:https://keithwarmemorialsportscentre.com.au/event/junior-bb-training-5/
CATEGORIES:Stadium
END:VEVENT
BEGIN:VEVENT
DTSTART;TZID=Australia/Adelaide:20221117T183000
DTEND;TZID=Australia/Adelaide:20221117T213000
DTSTAMP:20260424T011616
CREATED:20221031T024603Z
LAST-MODIFIED:20221031T024603Z
UID:2415-1668709800-1668720600@keithwarmemorialsportscentre.com.au
SUMMARY:BB club
DESCRIPTION:
URL:https://keithwarmemorialsportscentre.com.au/event/bb-club-6/
CATEGORIES:Stadium
END:VEVENT
BEGIN:VEVENT
DTSTART;TZID=Australia/Adelaide:20221122T153000
DTEND;TZID=Australia/Adelaide:20221122T203000
DTSTAMP:20260424T011616
CREATED:20221031T020755Z
LAST-MODIFIED:20221031T020755Z
UID:2342-1669131000-1669149000@keithwarmemorialsportscentre.com.au
SUMMARY:Junior BB
DESCRIPTION:
URL:https://keithwarmemorialsportscentre.com.au/event/junior-bb-17/
CATEGORIES:Stadium
END:VEVENT
BEGIN:VEVENT
DTSTART;TZID=Australia/Adelaide:20221123T170000
DTEND;TZID=Australia/Adelaide:20221123T180000
DTSTAMP:20260424T011616
CREATED:20221031T023153Z
LAST-MODIFIED:20221031T023153Z
UID:2383-1669222800-1669226400@keithwarmemorialsportscentre.com.au
SUMMARY:Junior Bb training
DESCRIPTION:
URL:https://keithwarmemorialsportscentre.com.au/event/junior-bb-training-20/
CATEGORIES:Stadium
END:VEVENT
BEGIN:VEVENT
DTSTART;TZID=Australia/Adelaide:20221123T190000
DTEND;TZID=Australia/Adelaide:20221123T213000
DTSTAMP:20260424T011616
CREATED:20221031T025708Z
LAST-MODIFIED:20221031T025708Z
UID:2447-1669230000-1669239000@keithwarmemorialsportscentre.com.au
SUMMARY:BB club
DESCRIPTION:
URL:https://keithwarmemorialsportscentre.com.au/event/bb-club-22/
CATEGORIES:Stadium
END:VEVENT
BEGIN:VEVENT
DTSTART;TZID=Australia/Adelaide:20221124T153000
DTEND;TZID=Australia/Adelaide:20221124T183000
DTSTAMP:20260424T011616
CREATED:20221031T020329Z
LAST-MODIFIED:20221031T020329Z
UID:2324-1669303800-1669314600@keithwarmemorialsportscentre.com.au
SUMMARY:Junior BB training
DESCRIPTION:
URL:https://keithwarmemorialsportscentre.com.au/event/junior-bb-training-6/
CATEGORIES:Stadium
END:VEVENT
BEGIN:VEVENT
DTSTART;TZID=Australia/Adelaide:20221124T183000
DTEND;TZID=Australia/Adelaide:20221124T213000
DTSTAMP:20260424T011616
CREATED:20221031T024633Z
LAST-MODIFIED:20221031T024633Z
UID:2417-1669314600-1669325400@keithwarmemorialsportscentre.com.au
SUMMARY:BB club
DESCRIPTION:
URL:https://keithwarmemorialsportscentre.com.au/event/bb-club-7/
CATEGORIES:Stadium
END:VEVENT
BEGIN:VEVENT
DTSTART;TZID=Australia/Adelaide:20221129T153000
DTEND;TZID=Australia/Adelaide:20221129T203000
DTSTAMP:20260424T011616
CREATED:20221031T020826Z
LAST-MODIFIED:20221031T020826Z
UID:2344-1669735800-1669753800@keithwarmemorialsportscentre.com.au
SUMMARY:Junior BB
DESCRIPTION:
URL:https://keithwarmemorialsportscentre.com.au/event/junior-bb-18/
CATEGORIES:Stadium
END:VEVENT
BEGIN:VEVENT
DTSTART;TZID=Australia/Adelaide:20221130T170000
DTEND;TZID=Australia/Adelaide:20221130T180000
DTSTAMP:20260424T011616
CREATED:20221031T023215Z
LAST-MODIFIED:20221031T023215Z
UID:2385-1669827600-1669831200@keithwarmemorialsportscentre.com.au
SUMMARY:Junior Bb training
DESCRIPTION:
URL:https://keithwarmemorialsportscentre.com.au/event/junior-bb-training-21/
CATEGORIES:Stadium
END:VEVENT
BEGIN:VEVENT
DTSTART;TZID=Australia/Adelaide:20221130T190000
DTEND;TZID=Australia/Adelaide:20221130T213000
DTSTAMP:20260424T011616
CREATED:20221031T025736Z
LAST-MODIFIED:20221031T025736Z
UID:2449-1669834800-1669843800@keithwarmemorialsportscentre.com.au
SUMMARY:BB club
DESCRIPTION:
URL:https://keithwarmemorialsportscentre.com.au/event/bb-club-23/
CATEGORIES:Stadium
END:VEVENT
END:VCALENDAR