BEGIN:VCALENDAR
VERSION:2.0
PRODID:-//Keith War Memorial Sports Centre - ECPv6.15.20//NONSGML v1.0//EN
CALSCALE:GREGORIAN
METHOD:PUBLISH
X-ORIGINAL-URL:https://keithwarmemorialsportscentre.com.au
X-WR-CALDESC:Events for Keith War Memorial Sports Centre
REFRESH-INTERVAL;VALUE=DURATION:PT1H
X-Robots-Tag:noindex
X-PUBLISHED-TTL:PT1H
BEGIN:VTIMEZONE
TZID:Australia/Adelaide
BEGIN:STANDARD
TZOFFSETFROM:+1030
TZOFFSETTO:+0930
TZNAME:ACST
DTSTART:20210403T163000
END:STANDARD
BEGIN:DAYLIGHT
TZOFFSETFROM:+0930
TZOFFSETTO:+1030
TZNAME:ACDT
DTSTART:20211002T163000
END:DAYLIGHT
BEGIN:STANDARD
TZOFFSETFROM:+1030
TZOFFSETTO:+0930
TZNAME:ACST
DTSTART:20220402T163000
END:STANDARD
BEGIN:DAYLIGHT
TZOFFSETFROM:+0930
TZOFFSETTO:+1030
TZNAME:ACDT
DTSTART:20221001T163000
END:DAYLIGHT
BEGIN:STANDARD
TZOFFSETFROM:+1030
TZOFFSETTO:+0930
TZNAME:ACST
DTSTART:20230401T163000
END:STANDARD
BEGIN:DAYLIGHT
TZOFFSETFROM:+0930
TZOFFSETTO:+1030
TZNAME:ACDT
DTSTART:20230930T163000
END:DAYLIGHT
END:VTIMEZONE
BEGIN:VEVENT
DTSTART;TZID=Australia/Adelaide:20220705T170000
DTEND;TZID=Australia/Adelaide:20220705T183000
DTSTAMP:20260424T075220
CREATED:20220408T045139Z
LAST-MODIFIED:20220408T045139Z
UID:2274-1657040400-1657045800@keithwarmemorialsportscentre.com.au
SUMMARY:Netball training
DESCRIPTION:
URL:https://keithwarmemorialsportscentre.com.au/event/netball-training-179/
CATEGORIES:Stadium
END:VEVENT
BEGIN:VEVENT
DTSTART;TZID=Australia/Adelaide:20220707T153000
DTEND;TZID=Australia/Adelaide:20220707T193000
DTSTAMP:20260424T075220
CREATED:20220405T021529Z
LAST-MODIFIED:20220405T021529Z
UID:2234-1657207800-1657222200@keithwarmemorialsportscentre.com.au
SUMMARY:Netball training
DESCRIPTION:
URL:https://keithwarmemorialsportscentre.com.au/event/netball-training-159/
CATEGORIES:Stadium
END:VEVENT
BEGIN:VEVENT
DTSTART;VALUE=DATE:20220709
DTEND;VALUE=DATE:20220710
DTSTAMP:20260424T075220
CREATED:20220405T015500Z
LAST-MODIFIED:20220405T015500Z
UID:2192-1657324800-1657411199@keithwarmemorialsportscentre.com.au
SUMMARY:KNTNA Keith home game
DESCRIPTION:
URL:https://keithwarmemorialsportscentre.com.au/event/kntna-keith-home-game-5/
CATEGORIES:Stadium
END:VEVENT
BEGIN:VEVENT
DTSTART;TZID=Australia/Adelaide:20220712T170000
DTEND;TZID=Australia/Adelaide:20220712T183000
DTSTAMP:20260424T075220
CREATED:20220408T045207Z
LAST-MODIFIED:20220408T045207Z
UID:2276-1657645200-1657650600@keithwarmemorialsportscentre.com.au
SUMMARY:Netball training
DESCRIPTION:
URL:https://keithwarmemorialsportscentre.com.au/event/netball-training-180/
CATEGORIES:Stadium
END:VEVENT
BEGIN:VEVENT
DTSTART;TZID=Australia/Adelaide:20220714T153000
DTEND;TZID=Australia/Adelaide:20220714T193000
DTSTAMP:20260424T075220
CREATED:20220405T021552Z
LAST-MODIFIED:20220405T021552Z
UID:2236-1657812600-1657827000@keithwarmemorialsportscentre.com.au
SUMMARY:Netball training
DESCRIPTION:
URL:https://keithwarmemorialsportscentre.com.au/event/netball-training-160/
CATEGORIES:Stadium
END:VEVENT
BEGIN:VEVENT
DTSTART;TZID=Australia/Adelaide:20220719T170000
DTEND;TZID=Australia/Adelaide:20220719T183000
DTSTAMP:20260424T075220
CREATED:20220408T045234Z
LAST-MODIFIED:20220408T045234Z
UID:2278-1658250000-1658255400@keithwarmemorialsportscentre.com.au
SUMMARY:Netball training
DESCRIPTION:
URL:https://keithwarmemorialsportscentre.com.au/event/netball-training-181/
CATEGORIES:Stadium
END:VEVENT
BEGIN:VEVENT
DTSTART;TZID=Australia/Adelaide:20220721T153000
DTEND;TZID=Australia/Adelaide:20220721T193000
DTSTAMP:20260424T075220
CREATED:20220405T021617Z
LAST-MODIFIED:20220405T021617Z
UID:2238-1658417400-1658431800@keithwarmemorialsportscentre.com.au
SUMMARY:Netball training
DESCRIPTION:
URL:https://keithwarmemorialsportscentre.com.au/event/netball-training-161/
CATEGORIES:Stadium
END:VEVENT
BEGIN:VEVENT
DTSTART;TZID=Australia/Adelaide:20220726T170000
DTEND;TZID=Australia/Adelaide:20220726T183000
DTSTAMP:20260424T075220
CREATED:20220408T045303Z
LAST-MODIFIED:20220408T045303Z
UID:2280-1658854800-1658860200@keithwarmemorialsportscentre.com.au
SUMMARY:Netball training
DESCRIPTION:
URL:https://keithwarmemorialsportscentre.com.au/event/netball-training-182/
CATEGORIES:Stadium
END:VEVENT
BEGIN:VEVENT
DTSTART;TZID=Australia/Adelaide:20220728T153000
DTEND;TZID=Australia/Adelaide:20220728T193000
DTSTAMP:20260424T075220
CREATED:20220405T021644Z
LAST-MODIFIED:20220405T021644Z
UID:2240-1659022200-1659036600@keithwarmemorialsportscentre.com.au
SUMMARY:Netball training
DESCRIPTION:
URL:https://keithwarmemorialsportscentre.com.au/event/netball-training-162/
CATEGORIES:Stadium
END:VEVENT
BEGIN:VEVENT
DTSTART;VALUE=DATE:20220730
DTEND;VALUE=DATE:20220731
DTSTAMP:20260424T075220
CREATED:20220405T015526Z
LAST-MODIFIED:20220405T015526Z
UID:2194-1659139200-1659225599@keithwarmemorialsportscentre.com.au
SUMMARY:KNTNA Keith home game
DESCRIPTION:
URL:https://keithwarmemorialsportscentre.com.au/event/kntna-keith-home-game-6/
CATEGORIES:Stadium
END:VEVENT
END:VCALENDAR