BEGIN:VCALENDAR
VERSION:2.0
PRODID:-//Keith War Memorial Sports Centre - ECPv6.15.20//NONSGML v1.0//EN
CALSCALE:GREGORIAN
METHOD:PUBLISH
X-WR-CALNAME:Keith War Memorial Sports Centre
X-ORIGINAL-URL:https://keithwarmemorialsportscentre.com.au
X-WR-CALDESC:Events for Keith War Memorial Sports Centre
REFRESH-INTERVAL;VALUE=DURATION:PT1H
X-Robots-Tag:noindex
X-PUBLISHED-TTL:PT1H
BEGIN:VTIMEZONE
TZID:Australia/Adelaide
BEGIN:STANDARD
TZOFFSETFROM:+1030
TZOFFSETTO:+0930
TZNAME:ACST
DTSTART:20210403T163000
END:STANDARD
BEGIN:DAYLIGHT
TZOFFSETFROM:+0930
TZOFFSETTO:+1030
TZNAME:ACDT
DTSTART:20211002T163000
END:DAYLIGHT
BEGIN:STANDARD
TZOFFSETFROM:+1030
TZOFFSETTO:+0930
TZNAME:ACST
DTSTART:20220402T163000
END:STANDARD
BEGIN:DAYLIGHT
TZOFFSETFROM:+0930
TZOFFSETTO:+1030
TZNAME:ACDT
DTSTART:20221001T163000
END:DAYLIGHT
BEGIN:STANDARD
TZOFFSETFROM:+1030
TZOFFSETTO:+0930
TZNAME:ACST
DTSTART:20230401T163000
END:STANDARD
BEGIN:DAYLIGHT
TZOFFSETFROM:+0930
TZOFFSETTO:+1030
TZNAME:ACDT
DTSTART:20230930T163000
END:DAYLIGHT
END:VTIMEZONE
BEGIN:VEVENT
DTSTART;TZID=Australia/Adelaide:20220602T153000
DTEND;TZID=Australia/Adelaide:20220602T193000
DTSTAMP:20260424T091726
CREATED:20220405T021331Z
LAST-MODIFIED:20220405T021331Z
UID:2224-1654183800-1654198200@keithwarmemorialsportscentre.com.au
SUMMARY:Netball training
DESCRIPTION:
URL:https://keithwarmemorialsportscentre.com.au/event/netball-training-154/
CATEGORIES:Stadium
END:VEVENT
BEGIN:VEVENT
DTSTART;TZID=Australia/Adelaide:20220607T170000
DTEND;TZID=Australia/Adelaide:20220607T183000
DTSTAMP:20260424T091726
CREATED:20220406T084304Z
LAST-MODIFIED:20220406T084304Z
UID:2266-1654621200-1654626600@keithwarmemorialsportscentre.com.au
SUMMARY:Netball training
DESCRIPTION:
URL:https://keithwarmemorialsportscentre.com.au/event/netball-training-175/
CATEGORIES:Stadium
END:VEVENT
BEGIN:VEVENT
DTSTART;TZID=Australia/Adelaide:20220609T153000
DTEND;TZID=Australia/Adelaide:20220609T193000
DTSTAMP:20260424T091726
CREATED:20220405T021354Z
LAST-MODIFIED:20220405T021354Z
UID:2226-1654788600-1654803000@keithwarmemorialsportscentre.com.au
SUMMARY:Netball training
DESCRIPTION:
URL:https://keithwarmemorialsportscentre.com.au/event/netball-training-155/
CATEGORIES:Stadium
END:VEVENT
BEGIN:VEVENT
DTSTART;TZID=Australia/Adelaide:20220614T170000
DTEND;TZID=Australia/Adelaide:20220614T183000
DTSTAMP:20260424T091726
CREATED:20220406T084350Z
LAST-MODIFIED:20220406T084350Z
UID:2268-1655226000-1655231400@keithwarmemorialsportscentre.com.au
SUMMARY:Netball training
DESCRIPTION:
URL:https://keithwarmemorialsportscentre.com.au/event/netball-training-176/
CATEGORIES:Stadium
END:VEVENT
BEGIN:VEVENT
DTSTART;TZID=Australia/Adelaide:20220616T153000
DTEND;TZID=Australia/Adelaide:20220616T193000
DTSTAMP:20260424T091726
CREATED:20220405T021415Z
LAST-MODIFIED:20220405T021415Z
UID:2228-1655393400-1655407800@keithwarmemorialsportscentre.com.au
SUMMARY:Netball training
DESCRIPTION:
URL:https://keithwarmemorialsportscentre.com.au/event/netball-training-156/
CATEGORIES:Stadium
END:VEVENT
BEGIN:VEVENT
DTSTART;VALUE=DATE:20220618
DTEND;VALUE=DATE:20220619
DTSTAMP:20260424T091726
CREATED:20220405T015431Z
LAST-MODIFIED:20220405T015431Z
UID:2190-1655510400-1655596799@keithwarmemorialsportscentre.com.au
SUMMARY:KNTNA Keith home game
DESCRIPTION:
URL:https://keithwarmemorialsportscentre.com.au/event/kntna-keith-home-game-4/
CATEGORIES:Stadium
END:VEVENT
BEGIN:VEVENT
DTSTART;TZID=Australia/Adelaide:20220621T170000
DTEND;TZID=Australia/Adelaide:20220621T183000
DTSTAMP:20260424T091726
CREATED:20220408T045047Z
LAST-MODIFIED:20220408T045047Z
UID:2270-1655830800-1655836200@keithwarmemorialsportscentre.com.au
SUMMARY:Netball training
DESCRIPTION:
URL:https://keithwarmemorialsportscentre.com.au/event/netball-training-177/
CATEGORIES:Stadium
END:VEVENT
BEGIN:VEVENT
DTSTART;TZID=Australia/Adelaide:20220623T153000
DTEND;TZID=Australia/Adelaide:20220623T193000
DTSTAMP:20260424T091726
CREATED:20220405T021438Z
LAST-MODIFIED:20220405T021438Z
UID:2230-1655998200-1656012600@keithwarmemorialsportscentre.com.au
SUMMARY:Netball training
DESCRIPTION:
URL:https://keithwarmemorialsportscentre.com.au/event/netball-training-157/
CATEGORIES:Stadium
END:VEVENT
BEGIN:VEVENT
DTSTART;TZID=Australia/Adelaide:20220628T170000
DTEND;TZID=Australia/Adelaide:20220628T183000
DTSTAMP:20260424T091726
CREATED:20220408T045112Z
LAST-MODIFIED:20220408T045112Z
UID:2272-1656435600-1656441000@keithwarmemorialsportscentre.com.au
SUMMARY:Netball training
DESCRIPTION:
URL:https://keithwarmemorialsportscentre.com.au/event/netball-training-178/
CATEGORIES:Stadium
END:VEVENT
BEGIN:VEVENT
DTSTART;TZID=Australia/Adelaide:20220630T153000
DTEND;TZID=Australia/Adelaide:20220630T193000
DTSTAMP:20260424T091726
CREATED:20220405T021500Z
LAST-MODIFIED:20220405T021500Z
UID:2232-1656603000-1656617400@keithwarmemorialsportscentre.com.au
SUMMARY:Netball training
DESCRIPTION:
URL:https://keithwarmemorialsportscentre.com.au/event/netball-training-158/
CATEGORIES:Stadium
END:VEVENT
END:VCALENDAR