BEGIN:VCALENDAR
VERSION:2.0
PRODID:-//Keith War Memorial Sports Centre - ECPv6.15.20//NONSGML v1.0//EN
CALSCALE:GREGORIAN
METHOD:PUBLISH
X-ORIGINAL-URL:https://keithwarmemorialsportscentre.com.au
X-WR-CALDESC:Events for Keith War Memorial Sports Centre
REFRESH-INTERVAL;VALUE=DURATION:PT1H
X-Robots-Tag:noindex
X-PUBLISHED-TTL:PT1H
BEGIN:VTIMEZONE
TZID:Australia/Adelaide
BEGIN:STANDARD
TZOFFSETFROM:+1030
TZOFFSETTO:+0930
TZNAME:ACST
DTSTART:20210403T163000
END:STANDARD
BEGIN:DAYLIGHT
TZOFFSETFROM:+0930
TZOFFSETTO:+1030
TZNAME:ACDT
DTSTART:20211002T163000
END:DAYLIGHT
BEGIN:STANDARD
TZOFFSETFROM:+1030
TZOFFSETTO:+0930
TZNAME:ACST
DTSTART:20220402T163000
END:STANDARD
BEGIN:DAYLIGHT
TZOFFSETFROM:+0930
TZOFFSETTO:+1030
TZNAME:ACDT
DTSTART:20221001T163000
END:DAYLIGHT
BEGIN:STANDARD
TZOFFSETFROM:+1030
TZOFFSETTO:+0930
TZNAME:ACST
DTSTART:20230401T163000
END:STANDARD
BEGIN:DAYLIGHT
TZOFFSETFROM:+0930
TZOFFSETTO:+1030
TZNAME:ACDT
DTSTART:20230930T163000
END:DAYLIGHT
END:VTIMEZONE
BEGIN:VEVENT
DTSTART;VALUE=DATE:20220501
DTEND;VALUE=DATE:20220502
DTSTAMP:20260424T110123
CREATED:20220405T015650Z
LAST-MODIFIED:20220405T015650Z
UID:2200-1651363200-1651449599@keithwarmemorialsportscentre.com.au
SUMMARY:Netball SA booking
DESCRIPTION:
URL:https://keithwarmemorialsportscentre.com.au/event/netball-sa-booking/
CATEGORIES:Stadium
END:VEVENT
BEGIN:VEVENT
DTSTART;TZID=Australia/Adelaide:20220503T170000
DTEND;TZID=Australia/Adelaide:20220503T183000
DTSTAMP:20260424T110123
CREATED:20220406T083824Z
LAST-MODIFIED:20220406T083824Z
UID:2256-1651597200-1651602600@keithwarmemorialsportscentre.com.au
SUMMARY:Netball training
DESCRIPTION:
URL:https://keithwarmemorialsportscentre.com.au/event/netball-training-170/
CATEGORIES:Stadium
END:VEVENT
BEGIN:VEVENT
DTSTART;TZID=Australia/Adelaide:20220505T153000
DTEND;TZID=Australia/Adelaide:20220505T193000
DTSTAMP:20260424T110123
CREATED:20220405T021155Z
LAST-MODIFIED:20220405T021155Z
UID:2216-1651764600-1651779000@keithwarmemorialsportscentre.com.au
SUMMARY:Netball training
DESCRIPTION:
URL:https://keithwarmemorialsportscentre.com.au/event/netball-training-150/
CATEGORIES:Stadium
END:VEVENT
BEGIN:VEVENT
DTSTART;VALUE=DATE:20220507
DTEND;VALUE=DATE:20220508
DTSTAMP:20260424T110123
CREATED:20220405T015350Z
LAST-MODIFIED:20220405T015350Z
UID:2186-1651881600-1651967999@keithwarmemorialsportscentre.com.au
SUMMARY:KNTNA Keith home game
DESCRIPTION:
URL:https://keithwarmemorialsportscentre.com.au/event/kntna-keith-home-game-2/
CATEGORIES:Stadium
END:VEVENT
BEGIN:VEVENT
DTSTART;TZID=Australia/Adelaide:20220510T170000
DTEND;TZID=Australia/Adelaide:20220510T183000
DTSTAMP:20260424T110123
CREATED:20220406T083925Z
LAST-MODIFIED:20220406T083925Z
UID:2258-1652202000-1652207400@keithwarmemorialsportscentre.com.au
SUMMARY:Netball training
DESCRIPTION:
URL:https://keithwarmemorialsportscentre.com.au/event/netball-training-171/
CATEGORIES:Stadium
END:VEVENT
BEGIN:VEVENT
DTSTART;TZID=Australia/Adelaide:20220512T153000
DTEND;TZID=Australia/Adelaide:20220512T193000
DTSTAMP:20260424T110123
CREATED:20220405T021216Z
LAST-MODIFIED:20220405T021216Z
UID:2218-1652369400-1652383800@keithwarmemorialsportscentre.com.au
SUMMARY:Netball training
DESCRIPTION:
URL:https://keithwarmemorialsportscentre.com.au/event/netball-training-151/
CATEGORIES:Stadium
END:VEVENT
BEGIN:VEVENT
DTSTART;TZID=Australia/Adelaide:20220517T170000
DTEND;TZID=Australia/Adelaide:20220517T183000
DTSTAMP:20260424T110123
CREATED:20220406T084010Z
LAST-MODIFIED:20220406T084010Z
UID:2260-1652806800-1652812200@keithwarmemorialsportscentre.com.au
SUMMARY:Netball training
DESCRIPTION:
URL:https://keithwarmemorialsportscentre.com.au/event/netball-training-172/
CATEGORIES:Stadium
END:VEVENT
BEGIN:VEVENT
DTSTART;TZID=Australia/Adelaide:20220519T153000
DTEND;TZID=Australia/Adelaide:20220519T193000
DTSTAMP:20260424T110123
CREATED:20220405T021240Z
LAST-MODIFIED:20220405T021240Z
UID:2220-1652974200-1652988600@keithwarmemorialsportscentre.com.au
SUMMARY:Netball training
DESCRIPTION:
URL:https://keithwarmemorialsportscentre.com.au/event/netball-training-152/
CATEGORIES:Stadium
END:VEVENT
BEGIN:VEVENT
DTSTART;TZID=Australia/Adelaide:20220524T170000
DTEND;TZID=Australia/Adelaide:20220524T183000
DTSTAMP:20260424T110123
CREATED:20220406T084049Z
LAST-MODIFIED:20220406T084049Z
UID:2262-1653411600-1653417000@keithwarmemorialsportscentre.com.au
SUMMARY:Netball training
DESCRIPTION:
URL:https://keithwarmemorialsportscentre.com.au/event/netball-training-173/
CATEGORIES:Stadium
END:VEVENT
BEGIN:VEVENT
DTSTART;TZID=Australia/Adelaide:20220526T153000
DTEND;TZID=Australia/Adelaide:20220526T193000
DTSTAMP:20260424T110123
CREATED:20220405T021304Z
LAST-MODIFIED:20220405T021304Z
UID:2222-1653579000-1653593400@keithwarmemorialsportscentre.com.au
SUMMARY:Netball training
DESCRIPTION:
URL:https://keithwarmemorialsportscentre.com.au/event/netball-training-153/
CATEGORIES:Stadium
END:VEVENT
BEGIN:VEVENT
DTSTART;VALUE=DATE:20220528
DTEND;VALUE=DATE:20220529
DTSTAMP:20260424T110123
CREATED:20220405T015411Z
LAST-MODIFIED:20220405T015411Z
UID:2188-1653696000-1653782399@keithwarmemorialsportscentre.com.au
SUMMARY:KNTNA Keith home game
DESCRIPTION:
URL:https://keithwarmemorialsportscentre.com.au/event/kntna-keith-home-game-3/
CATEGORIES:Stadium
END:VEVENT
BEGIN:VEVENT
DTSTART;VALUE=DATE:20220529
DTEND;VALUE=DATE:20220530
DTSTAMP:20260424T110123
CREATED:20220405T015714Z
LAST-MODIFIED:20220405T015714Z
UID:2202-1653782400-1653868799@keithwarmemorialsportscentre.com.au
SUMMARY:Netball SA booking
DESCRIPTION:
URL:https://keithwarmemorialsportscentre.com.au/event/netball-sa-booking-2/
CATEGORIES:Stadium
END:VEVENT
BEGIN:VEVENT
DTSTART;TZID=Australia/Adelaide:20220531T170000
DTEND;TZID=Australia/Adelaide:20220531T183000
DTSTAMP:20260424T110123
CREATED:20220406T084127Z
LAST-MODIFIED:20220406T084127Z
UID:2264-1654016400-1654021800@keithwarmemorialsportscentre.com.au
SUMMARY:Netball training
DESCRIPTION:
URL:https://keithwarmemorialsportscentre.com.au/event/netball-training-174/
CATEGORIES:Stadium
END:VEVENT
END:VCALENDAR