BEGIN:VCALENDAR
VERSION:2.0
PRODID:-//Keith War Memorial Sports Centre - ECPv6.15.20//NONSGML v1.0//EN
CALSCALE:GREGORIAN
METHOD:PUBLISH
X-ORIGINAL-URL:https://keithwarmemorialsportscentre.com.au
X-WR-CALDESC:Events for Keith War Memorial Sports Centre
REFRESH-INTERVAL;VALUE=DURATION:PT1H
X-Robots-Tag:noindex
X-PUBLISHED-TTL:PT1H
BEGIN:VTIMEZONE
TZID:Australia/Adelaide
BEGIN:STANDARD
TZOFFSETFROM:+1030
TZOFFSETTO:+0930
TZNAME:ACST
DTSTART:20200404T163000
END:STANDARD
BEGIN:DAYLIGHT
TZOFFSETFROM:+0930
TZOFFSETTO:+1030
TZNAME:ACDT
DTSTART:20201003T163000
END:DAYLIGHT
BEGIN:STANDARD
TZOFFSETFROM:+1030
TZOFFSETTO:+0930
TZNAME:ACST
DTSTART:20210403T163000
END:STANDARD
BEGIN:DAYLIGHT
TZOFFSETFROM:+0930
TZOFFSETTO:+1030
TZNAME:ACDT
DTSTART:20211002T163000
END:DAYLIGHT
BEGIN:STANDARD
TZOFFSETFROM:+1030
TZOFFSETTO:+0930
TZNAME:ACST
DTSTART:20220402T163000
END:STANDARD
BEGIN:DAYLIGHT
TZOFFSETFROM:+0930
TZOFFSETTO:+1030
TZNAME:ACDT
DTSTART:20221001T163000
END:DAYLIGHT
END:VTIMEZONE
BEGIN:VEVENT
DTSTART;TZID=Australia/Adelaide:20210501T080000
DTEND;TZID=Australia/Adelaide:20210501T170000
DTSTAMP:20260425T055542
CREATED:20210215T233618Z
LAST-MODIFIED:20210215T233618Z
UID:1783-1619856000-1619888400@keithwarmemorialsportscentre.com.au
SUMMARY:Netball home game
DESCRIPTION:
URL:https://keithwarmemorialsportscentre.com.au/event/netball-home-game-2/
CATEGORIES:Stadium
END:VEVENT
BEGIN:VEVENT
DTSTART;TZID=Australia/Adelaide:20210505T150000
DTEND;TZID=Australia/Adelaide:20210505T183000
DTSTAMP:20260425T055542
CREATED:20210428T111026Z
LAST-MODIFIED:20210428T111026Z
UID:1869-1620226800-1620239400@keithwarmemorialsportscentre.com.au
SUMMARY:Junior training
DESCRIPTION:
URL:https://keithwarmemorialsportscentre.com.au/event/junior-training-2/
CATEGORIES:Stadium
END:VEVENT
BEGIN:VEVENT
DTSTART;TZID=Australia/Adelaide:20210512T150000
DTEND;TZID=Australia/Adelaide:20210512T183000
DTSTAMP:20260425T055542
CREATED:20210428T111119Z
LAST-MODIFIED:20210428T111119Z
UID:1871-1620831600-1620844200@keithwarmemorialsportscentre.com.au
SUMMARY:Junior training
DESCRIPTION:
URL:https://keithwarmemorialsportscentre.com.au/event/junior-training-3/
CATEGORIES:Stadium
END:VEVENT
BEGIN:VEVENT
DTSTART;TZID=Australia/Adelaide:20210515T080000
DTEND;TZID=Australia/Adelaide:20210515T170000
DTSTAMP:20260425T055542
CREATED:20210215T233644Z
LAST-MODIFIED:20210215T233644Z
UID:1785-1621065600-1621098000@keithwarmemorialsportscentre.com.au
SUMMARY:Netball home game
DESCRIPTION:
URL:https://keithwarmemorialsportscentre.com.au/event/netball-home-game-3/
CATEGORIES:Stadium
END:VEVENT
BEGIN:VEVENT
DTSTART;TZID=Australia/Adelaide:20210519T153000
DTEND;TZID=Australia/Adelaide:20210519T183000
DTSTAMP:20260425T055542
CREATED:20210428T111212Z
LAST-MODIFIED:20210428T111212Z
UID:1873-1621438200-1621449000@keithwarmemorialsportscentre.com.au
SUMMARY:Junior training
DESCRIPTION:
URL:https://keithwarmemorialsportscentre.com.au/event/junior-training-4/
CATEGORIES:Stadium
END:VEVENT
BEGIN:VEVENT
DTSTART;TZID=Australia/Adelaide:20210526T153000
DTEND;TZID=Australia/Adelaide:20210526T203000
DTSTAMP:20260425T055542
CREATED:20210428T111336Z
LAST-MODIFIED:20210428T111336Z
UID:1877-1622043000-1622061000@keithwarmemorialsportscentre.com.au
SUMMARY:Junior training
DESCRIPTION:
URL:https://keithwarmemorialsportscentre.com.au/event/junior-training-6/
CATEGORIES:Stadium
END:VEVENT
BEGIN:VEVENT
DTSTART;TZID=Australia/Adelaide:20210529T080000
DTEND;TZID=Australia/Adelaide:20210529T170000
DTSTAMP:20260425T055542
CREATED:20210215T233706Z
LAST-MODIFIED:20210215T233706Z
UID:1787-1622275200-1622307600@keithwarmemorialsportscentre.com.au
SUMMARY:Netball home game
DESCRIPTION:
URL:https://keithwarmemorialsportscentre.com.au/event/netball-home-game-4/
CATEGORIES:Stadium
END:VEVENT
END:VCALENDAR