BEGIN:VCALENDAR
VERSION:2.0
PRODID:-//Keith War Memorial Sports Centre - ECPv6.15.20//NONSGML v1.0//EN
CALSCALE:GREGORIAN
METHOD:PUBLISH
X-ORIGINAL-URL:https://keithwarmemorialsportscentre.com.au
X-WR-CALDESC:Events for Keith War Memorial Sports Centre
REFRESH-INTERVAL;VALUE=DURATION:PT1H
X-Robots-Tag:noindex
X-PUBLISHED-TTL:PT1H
BEGIN:VTIMEZONE
TZID:Australia/Adelaide
BEGIN:STANDARD
TZOFFSETFROM:+1030
TZOFFSETTO:+0930
TZNAME:ACST
DTSTART:20200404T163000
END:STANDARD
BEGIN:DAYLIGHT
TZOFFSETFROM:+0930
TZOFFSETTO:+1030
TZNAME:ACDT
DTSTART:20201003T163000
END:DAYLIGHT
BEGIN:STANDARD
TZOFFSETFROM:+1030
TZOFFSETTO:+0930
TZNAME:ACST
DTSTART:20210403T163000
END:STANDARD
BEGIN:DAYLIGHT
TZOFFSETFROM:+0930
TZOFFSETTO:+1030
TZNAME:ACDT
DTSTART:20211002T163000
END:DAYLIGHT
BEGIN:STANDARD
TZOFFSETFROM:+1030
TZOFFSETTO:+0930
TZNAME:ACST
DTSTART:20220402T163000
END:STANDARD
BEGIN:DAYLIGHT
TZOFFSETFROM:+0930
TZOFFSETTO:+1030
TZNAME:ACDT
DTSTART:20221001T163000
END:DAYLIGHT
END:VTIMEZONE
BEGIN:VEVENT
DTSTART;TZID=Australia/Adelaide:20210424T080000
DTEND;TZID=Australia/Adelaide:20210424T170000
DTSTAMP:20260425T073131
CREATED:20210215T233549Z
LAST-MODIFIED:20210215T233549Z
UID:1781-1619251200-1619283600@keithwarmemorialsportscentre.com.au
SUMMARY:Netball home game
DESCRIPTION:
URL:https://keithwarmemorialsportscentre.com.au/event/netball-home-game/
CATEGORIES:Stadium
END:VEVENT
BEGIN:VEVENT
DTSTART;TZID=Australia/Adelaide:20210428T150000
DTEND;TZID=Australia/Adelaide:20210428T183000
DTSTAMP:20260425T073131
CREATED:20210428T110807Z
LAST-MODIFIED:20210428T110807Z
UID:1867-1619622000-1619634600@keithwarmemorialsportscentre.com.au
SUMMARY:Junior training
DESCRIPTION:
URL:https://keithwarmemorialsportscentre.com.au/event/junior-training/
CATEGORIES:Stadium
END:VEVENT
END:VCALENDAR