BEGIN:VCALENDAR
VERSION:2.0
PRODID:-//Keith War Memorial Sports Centre - ECPv6.15.20//NONSGML v1.0//EN
CALSCALE:GREGORIAN
METHOD:PUBLISH
X-ORIGINAL-URL:https://keithwarmemorialsportscentre.com.au
X-WR-CALDESC:Events for Keith War Memorial Sports Centre
REFRESH-INTERVAL;VALUE=DURATION:PT1H
X-Robots-Tag:noindex
X-PUBLISHED-TTL:PT1H
BEGIN:VTIMEZONE
TZID:Australia/Adelaide
BEGIN:STANDARD
TZOFFSETFROM:+1030
TZOFFSETTO:+0930
TZNAME:ACST
DTSTART:20200404T163000
END:STANDARD
BEGIN:DAYLIGHT
TZOFFSETFROM:+0930
TZOFFSETTO:+1030
TZNAME:ACDT
DTSTART:20201003T163000
END:DAYLIGHT
BEGIN:STANDARD
TZOFFSETFROM:+1030
TZOFFSETTO:+0930
TZNAME:ACST
DTSTART:20210403T163000
END:STANDARD
BEGIN:DAYLIGHT
TZOFFSETFROM:+0930
TZOFFSETTO:+1030
TZNAME:ACDT
DTSTART:20211002T163000
END:DAYLIGHT
BEGIN:STANDARD
TZOFFSETFROM:+1030
TZOFFSETTO:+0930
TZNAME:ACST
DTSTART:20220402T163000
END:STANDARD
BEGIN:DAYLIGHT
TZOFFSETFROM:+0930
TZOFFSETTO:+1030
TZNAME:ACDT
DTSTART:20221001T163000
END:DAYLIGHT
END:VTIMEZONE
BEGIN:VEVENT
DTSTART;TZID=Australia/Adelaide:20210302T150000
DTEND;TZID=Australia/Adelaide:20210302T200000
DTSTAMP:20260425T091839
CREATED:20200925T040213Z
LAST-MODIFIED:20200925T040213Z
UID:1537-1614697200-1614715200@keithwarmemorialsportscentre.com.au
SUMMARY:Junior BB season
DESCRIPTION:
URL:https://keithwarmemorialsportscentre.com.au/event/junior-bb-season-28/
CATEGORIES:Stadium
END:VEVENT
BEGIN:VEVENT
DTSTART;TZID=Australia/Adelaide:20210303T163000
DTEND;TZID=Australia/Adelaide:20210303T183000
DTSTAMP:20260425T091839
CREATED:20200925T041343Z
LAST-MODIFIED:20200925T042902Z
UID:1567-1614789000-1614796200@keithwarmemorialsportscentre.com.au
SUMMARY:Squad training
DESCRIPTION:
URL:https://keithwarmemorialsportscentre.com.au/event/senior-bb-womens-15/
CATEGORIES:Stadium
END:VEVENT
BEGIN:VEVENT
DTSTART;TZID=Australia/Adelaide:20210304T173000
DTEND;TZID=Australia/Adelaide:20210304T190000
DTSTAMP:20260425T091839
CREATED:20200925T043310Z
LAST-MODIFIED:20200925T043310Z
UID:1624-1614879000-1614884400@keithwarmemorialsportscentre.com.au
SUMMARY:Squad training
DESCRIPTION:
URL:https://keithwarmemorialsportscentre.com.au/event/squad-training-5/
CATEGORIES:Stadium
END:VEVENT
BEGIN:VEVENT
DTSTART;TZID=Australia/Adelaide:20210310T163000
DTEND;TZID=Australia/Adelaide:20210310T183000
DTSTAMP:20260425T091839
CREATED:20200925T041410Z
LAST-MODIFIED:20200925T042852Z
UID:1569-1615393800-1615401000@keithwarmemorialsportscentre.com.au
SUMMARY:Squad training
DESCRIPTION:
URL:https://keithwarmemorialsportscentre.com.au/event/senior-bb-womens-16/
CATEGORIES:Stadium
END:VEVENT
BEGIN:VEVENT
DTSTART;TZID=Australia/Adelaide:20210311T163000
DTEND;TZID=Australia/Adelaide:20210311T190000
DTSTAMP:20260425T091839
CREATED:20200925T043335Z
LAST-MODIFIED:20200925T043335Z
UID:1626-1615480200-1615489200@keithwarmemorialsportscentre.com.au
SUMMARY:Squad training
DESCRIPTION:
URL:https://keithwarmemorialsportscentre.com.au/event/squad-training-6/
CATEGORIES:Stadium
END:VEVENT
BEGIN:VEVENT
DTSTART;TZID=Australia/Adelaide:20210317T163000
DTEND;TZID=Australia/Adelaide:20210317T183000
DTSTAMP:20260425T091839
CREATED:20200925T041435Z
LAST-MODIFIED:20200925T042843Z
UID:1571-1615998600-1616005800@keithwarmemorialsportscentre.com.au
SUMMARY:Squad training
DESCRIPTION:
URL:https://keithwarmemorialsportscentre.com.au/event/senior-bb-womens-17/
CATEGORIES:Stadium
END:VEVENT
BEGIN:VEVENT
DTSTART;TZID=Australia/Adelaide:20210318T163000
DTEND;TZID=Australia/Adelaide:20210318T190000
DTSTAMP:20260425T091839
CREATED:20200925T043404Z
LAST-MODIFIED:20200925T043404Z
UID:1628-1616085000-1616094000@keithwarmemorialsportscentre.com.au
SUMMARY:Squad training
DESCRIPTION:
URL:https://keithwarmemorialsportscentre.com.au/event/squad-training-7/
CATEGORIES:Stadium
END:VEVENT
END:VCALENDAR