BEGIN:VCALENDAR
VERSION:2.0
PRODID:-//Keith War Memorial Sports Centre - ECPv6.15.20//NONSGML v1.0//EN
CALSCALE:GREGORIAN
METHOD:PUBLISH
X-WR-CALNAME:Keith War Memorial Sports Centre
X-ORIGINAL-URL:https://keithwarmemorialsportscentre.com.au
X-WR-CALDESC:Events for Keith War Memorial Sports Centre
REFRESH-INTERVAL;VALUE=DURATION:PT1H
X-Robots-Tag:noindex
X-PUBLISHED-TTL:PT1H
BEGIN:VTIMEZONE
TZID:Australia/Adelaide
BEGIN:STANDARD
TZOFFSETFROM:+1030
TZOFFSETTO:+0930
TZNAME:ACST
DTSTART:20190406T163000
END:STANDARD
BEGIN:DAYLIGHT
TZOFFSETFROM:+0930
TZOFFSETTO:+1030
TZNAME:ACDT
DTSTART:20191005T163000
END:DAYLIGHT
BEGIN:STANDARD
TZOFFSETFROM:+1030
TZOFFSETTO:+0930
TZNAME:ACST
DTSTART:20200404T163000
END:STANDARD
BEGIN:DAYLIGHT
TZOFFSETFROM:+0930
TZOFFSETTO:+1030
TZNAME:ACDT
DTSTART:20201003T163000
END:DAYLIGHT
BEGIN:STANDARD
TZOFFSETFROM:+1030
TZOFFSETTO:+0930
TZNAME:ACST
DTSTART:20210403T163000
END:STANDARD
BEGIN:DAYLIGHT
TZOFFSETFROM:+0930
TZOFFSETTO:+1030
TZNAME:ACDT
DTSTART:20211002T163000
END:DAYLIGHT
END:VTIMEZONE
BEGIN:VEVENT
DTSTART;TZID=Australia/Adelaide:20200204T150000
DTEND;TZID=Australia/Adelaide:20200204T210000
DTSTAMP:20260426T072539
CREATED:20190819T040425Z
LAST-MODIFIED:20190819T040425Z
UID:1219-1580828400-1580850000@keithwarmemorialsportscentre.com.au
SUMMARY:Junior BB season
DESCRIPTION:
URL:https://keithwarmemorialsportscentre.com.au/event/junior-bb-season-11/
CATEGORIES:Stadium
END:VEVENT
BEGIN:VEVENT
DTSTART;TZID=Australia/Adelaide:20200206T153000
DTEND;TZID=Australia/Adelaide:20200206T183000
DTSTAMP:20260426T072539
CREATED:20190819T041905Z
LAST-MODIFIED:20190906T034457Z
UID:1249-1581003000-1581013800@keithwarmemorialsportscentre.com.au
SUMMARY:Junior carnival training
DESCRIPTION:
URL:https://keithwarmemorialsportscentre.com.au/event/junior-carnival-training-11/
CATEGORIES:Stadium
END:VEVENT
BEGIN:VEVENT
DTSTART;TZID=Australia/Adelaide:20200206T190000
DTEND;TZID=Australia/Adelaide:20200206T210000
DTSTAMP:20260426T072539
CREATED:20191104T231608Z
LAST-MODIFIED:20191104T231608Z
UID:1354-1581015600-1581022800@keithwarmemorialsportscentre.com.au
SUMMARY:Mens summer BB
DESCRIPTION:
URL:https://keithwarmemorialsportscentre.com.au/event/mens-summer-bb-12/
CATEGORIES:Stadium
END:VEVENT
BEGIN:VEVENT
DTSTART;TZID=Australia/Adelaide:20200211T150000
DTEND;TZID=Australia/Adelaide:20200211T210000
DTSTAMP:20260426T072539
CREATED:20190819T040450Z
LAST-MODIFIED:20190819T040450Z
UID:1221-1581433200-1581454800@keithwarmemorialsportscentre.com.au
SUMMARY:Junior BB season
DESCRIPTION:
URL:https://keithwarmemorialsportscentre.com.au/event/junior-bb-season-12/
CATEGORIES:Stadium
END:VEVENT
BEGIN:VEVENT
DTSTART;TZID=Australia/Adelaide:20200213T153000
DTEND;TZID=Australia/Adelaide:20200213T183000
DTSTAMP:20260426T072539
CREATED:20190819T041938Z
LAST-MODIFIED:20190906T034440Z
UID:1251-1581607800-1581618600@keithwarmemorialsportscentre.com.au
SUMMARY:Junior carnival training
DESCRIPTION:
URL:https://keithwarmemorialsportscentre.com.au/event/junior-carnival-training-12/
CATEGORIES:Stadium
END:VEVENT
BEGIN:VEVENT
DTSTART;TZID=Australia/Adelaide:20200213T190000
DTEND;TZID=Australia/Adelaide:20200213T210000
DTSTAMP:20260426T072539
CREATED:20191104T231654Z
LAST-MODIFIED:20191104T231704Z
UID:1356-1581620400-1581627600@keithwarmemorialsportscentre.com.au
SUMMARY:Mens summer BB
DESCRIPTION:
URL:https://keithwarmemorialsportscentre.com.au/event/mens-summer-bb-13/
CATEGORIES:Stadium
END:VEVENT
BEGIN:VEVENT
DTSTART;TZID=Australia/Adelaide:20200218T150000
DTEND;TZID=Australia/Adelaide:20200218T210000
DTSTAMP:20260426T072539
CREATED:20190819T040516Z
LAST-MODIFIED:20190819T040516Z
UID:1223-1582038000-1582059600@keithwarmemorialsportscentre.com.au
SUMMARY:Junior BB season
DESCRIPTION:
URL:https://keithwarmemorialsportscentre.com.au/event/junior-bb-season-13/
CATEGORIES:Stadium
END:VEVENT
BEGIN:VEVENT
DTSTART;TZID=Australia/Adelaide:20200220T153000
DTEND;TZID=Australia/Adelaide:20200220T183000
DTSTAMP:20260426T072539
CREATED:20190819T042004Z
LAST-MODIFIED:20190906T034419Z
UID:1253-1582212600-1582223400@keithwarmemorialsportscentre.com.au
SUMMARY:Junior carnival training
DESCRIPTION:
URL:https://keithwarmemorialsportscentre.com.au/event/junior-carnival-training-13/
CATEGORIES:Stadium
END:VEVENT
BEGIN:VEVENT
DTSTART;TZID=Australia/Adelaide:20200220T190000
DTEND;TZID=Australia/Adelaide:20200220T210000
DTSTAMP:20260426T072539
CREATED:20191104T231744Z
LAST-MODIFIED:20191104T231744Z
UID:1358-1582225200-1582232400@keithwarmemorialsportscentre.com.au
SUMMARY:Mens summer BB
DESCRIPTION:
URL:https://keithwarmemorialsportscentre.com.au/event/mens-summer-bb-14/
CATEGORIES:Stadium
END:VEVENT
BEGIN:VEVENT
DTSTART;TZID=Australia/Adelaide:20200225T150000
DTEND;TZID=Australia/Adelaide:20200225T210000
DTSTAMP:20260426T072539
CREATED:20190819T040548Z
LAST-MODIFIED:20190819T040548Z
UID:1225-1582642800-1582664400@keithwarmemorialsportscentre.com.au
SUMMARY:Junior BB season
DESCRIPTION:
URL:https://keithwarmemorialsportscentre.com.au/event/junior-bb-season-14/
CATEGORIES:Stadium
END:VEVENT
BEGIN:VEVENT
DTSTART;TZID=Australia/Adelaide:20200227T153000
DTEND;TZID=Australia/Adelaide:20200227T183000
DTSTAMP:20260426T072539
CREATED:20190819T042036Z
LAST-MODIFIED:20190906T034402Z
UID:1255-1582817400-1582828200@keithwarmemorialsportscentre.com.au
SUMMARY:Junior carnival training
DESCRIPTION:
URL:https://keithwarmemorialsportscentre.com.au/event/junior-carnival-training-14/
CATEGORIES:Stadium
END:VEVENT
BEGIN:VEVENT
DTSTART;TZID=Australia/Adelaide:20200228T150000
DTEND;TZID=Australia/Adelaide:20200228T220000
DTSTAMP:20260426T072539
CREATED:20190819T040645Z
LAST-MODIFIED:20190819T040645Z
UID:1227-1582902000-1582927200@keithwarmemorialsportscentre.com.au
SUMMARY:Junior BB Grandfinals
DESCRIPTION:
URL:https://keithwarmemorialsportscentre.com.au/event/junior-bb-grandfinals/
CATEGORIES:Stadium
END:VEVENT
BEGIN:VEVENT
DTSTART;TZID=Australia/Adelaide:20200228T203000
DTEND;TZID=Australia/Adelaide:20200228T213000
DTSTAMP:20260426T072539
CREATED:20191104T231903Z
LAST-MODIFIED:20191104T232032Z
UID:1360-1582921800-1582925400@keithwarmemorialsportscentre.com.au
SUMMARY:Mens BB grandfinal
DESCRIPTION:
URL:https://keithwarmemorialsportscentre.com.au/event/mens-bb-grandfinal/
CATEGORIES:Stadium
END:VEVENT
END:VCALENDAR