BEGIN:VCALENDAR
VERSION:2.0
PRODID:-//Keith War Memorial Sports Centre - ECPv6.15.20//NONSGML v1.0//EN
CALSCALE:GREGORIAN
METHOD:PUBLISH
X-ORIGINAL-URL:https://keithwarmemorialsportscentre.com.au
X-WR-CALDESC:Events for Keith War Memorial Sports Centre
REFRESH-INTERVAL;VALUE=DURATION:PT1H
X-Robots-Tag:noindex
X-PUBLISHED-TTL:PT1H
BEGIN:VTIMEZONE
TZID:Australia/Adelaide
BEGIN:STANDARD
TZOFFSETFROM:+1030
TZOFFSETTO:+0930
TZNAME:ACST
DTSTART:20190406T163000
END:STANDARD
BEGIN:DAYLIGHT
TZOFFSETFROM:+0930
TZOFFSETTO:+1030
TZNAME:ACDT
DTSTART:20191005T163000
END:DAYLIGHT
BEGIN:STANDARD
TZOFFSETFROM:+1030
TZOFFSETTO:+0930
TZNAME:ACST
DTSTART:20200404T163000
END:STANDARD
BEGIN:DAYLIGHT
TZOFFSETFROM:+0930
TZOFFSETTO:+1030
TZNAME:ACDT
DTSTART:20201003T163000
END:DAYLIGHT
BEGIN:STANDARD
TZOFFSETFROM:+1030
TZOFFSETTO:+0930
TZNAME:ACST
DTSTART:20210403T163000
END:STANDARD
BEGIN:DAYLIGHT
TZOFFSETFROM:+0930
TZOFFSETTO:+1030
TZNAME:ACDT
DTSTART:20211002T163000
END:DAYLIGHT
END:VTIMEZONE
BEGIN:VEVENT
DTSTART;TZID=Australia/Adelaide:20200128T150000
DTEND;TZID=Australia/Adelaide:20200128T210000
DTSTAMP:20260426T090241
CREATED:20190819T040358Z
LAST-MODIFIED:20190819T040358Z
UID:1217-1580223600-1580245200@keithwarmemorialsportscentre.com.au
SUMMARY:Junior BB season
DESCRIPTION:
URL:https://keithwarmemorialsportscentre.com.au/event/junior-bb-season-10/
CATEGORIES:Stadium
END:VEVENT
BEGIN:VEVENT
DTSTART;TZID=Australia/Adelaide:20200130T153000
DTEND;TZID=Australia/Adelaide:20200130T183000
DTSTAMP:20260426T090241
CREATED:20190819T041834Z
LAST-MODIFIED:20190906T034516Z
UID:1247-1580398200-1580409000@keithwarmemorialsportscentre.com.au
SUMMARY:Junior carnival training
DESCRIPTION:
URL:https://keithwarmemorialsportscentre.com.au/event/junior-carnival-training-10/
CATEGORIES:Stadium
END:VEVENT
BEGIN:VEVENT
DTSTART;TZID=Australia/Adelaide:20200130T190000
DTEND;TZID=Australia/Adelaide:20200130T210000
DTSTAMP:20260426T090241
CREATED:20191104T231526Z
LAST-MODIFIED:20191104T231526Z
UID:1352-1580410800-1580418000@keithwarmemorialsportscentre.com.au
SUMMARY:Mens summer BB
DESCRIPTION:
URL:https://keithwarmemorialsportscentre.com.au/event/mens-summer-bb-11/
CATEGORIES:Stadium
END:VEVENT
END:VCALENDAR