BEGIN:VCALENDAR
VERSION:2.0
PRODID:-//Keith War Memorial Sports Centre - ECPv6.15.20//NONSGML v1.0//EN
CALSCALE:GREGORIAN
METHOD:PUBLISH
X-WR-CALNAME:Keith War Memorial Sports Centre
X-ORIGINAL-URL:https://keithwarmemorialsportscentre.com.au
X-WR-CALDESC:Events for Keith War Memorial Sports Centre
REFRESH-INTERVAL;VALUE=DURATION:PT1H
X-Robots-Tag:noindex
X-PUBLISHED-TTL:PT1H
BEGIN:VTIMEZONE
TZID:Australia/Adelaide
BEGIN:STANDARD
TZOFFSETFROM:+1030
TZOFFSETTO:+0930
TZNAME:ACST
DTSTART:20180331T163000
END:STANDARD
BEGIN:DAYLIGHT
TZOFFSETFROM:+0930
TZOFFSETTO:+1030
TZNAME:ACDT
DTSTART:20181006T163000
END:DAYLIGHT
BEGIN:STANDARD
TZOFFSETFROM:+1030
TZOFFSETTO:+0930
TZNAME:ACST
DTSTART:20190406T163000
END:STANDARD
BEGIN:DAYLIGHT
TZOFFSETFROM:+0930
TZOFFSETTO:+1030
TZNAME:ACDT
DTSTART:20191005T163000
END:DAYLIGHT
BEGIN:STANDARD
TZOFFSETFROM:+1030
TZOFFSETTO:+0930
TZNAME:ACST
DTSTART:20200404T163000
END:STANDARD
BEGIN:DAYLIGHT
TZOFFSETFROM:+0930
TZOFFSETTO:+1030
TZNAME:ACDT
DTSTART:20201003T163000
END:DAYLIGHT
END:VTIMEZONE
BEGIN:VEVENT
DTSTART;TZID=Australia/Adelaide:20191101T183000
DTEND;TZID=Australia/Adelaide:20191101T213000
DTSTAMP:20260426T121954
CREATED:20191104T230808Z
LAST-MODIFIED:20191104T230808Z
UID:1336-1572633000-1572643800@keithwarmemorialsportscentre.com.au
SUMMARY:Mens summer BB
DESCRIPTION:
URL:https://keithwarmemorialsportscentre.com.au/event/mens-summer-bb-3/
CATEGORIES:Stadium
END:VEVENT
BEGIN:VEVENT
DTSTART;TZID=Australia/Adelaide:20191105T150000
DTEND;TZID=Australia/Adelaide:20191105T210000
DTSTAMP:20260426T121954
CREATED:20190819T040103Z
LAST-MODIFIED:20190819T040103Z
UID:1205-1572966000-1572987600@keithwarmemorialsportscentre.com.au
SUMMARY:Junior BB season
DESCRIPTION:
URL:https://keithwarmemorialsportscentre.com.au/event/junior-bb-season-4/
CATEGORIES:Stadium
END:VEVENT
BEGIN:VEVENT
DTSTART;TZID=Australia/Adelaide:20191107T153000
DTEND;TZID=Australia/Adelaide:20191107T183000
DTSTAMP:20260426T121954
CREATED:20190819T041540Z
LAST-MODIFIED:20190906T034723Z
UID:1235-1573140600-1573151400@keithwarmemorialsportscentre.com.au
SUMMARY:Junior carnival training
DESCRIPTION:
URL:https://keithwarmemorialsportscentre.com.au/event/junior-carnival-training-4/
CATEGORIES:Stadium
END:VEVENT
BEGIN:VEVENT
DTSTART;TZID=Australia/Adelaide:20191107T190000
DTEND;TZID=Australia/Adelaide:20191107T210000
DTSTAMP:20260426T121954
CREATED:20191104T230853Z
LAST-MODIFIED:20191104T230853Z
UID:1338-1573153200-1573160400@keithwarmemorialsportscentre.com.au
SUMMARY:Mens summer BB
DESCRIPTION:
URL:https://keithwarmemorialsportscentre.com.au/event/mens-summer-bb-4/
CATEGORIES:Stadium
END:VEVENT
BEGIN:VEVENT
DTSTART;TZID=Australia/Adelaide:20191112T150000
DTEND;TZID=Australia/Adelaide:20191112T210000
DTSTAMP:20260426T121954
CREATED:20190819T040130Z
LAST-MODIFIED:20190819T040130Z
UID:1207-1573570800-1573592400@keithwarmemorialsportscentre.com.au
SUMMARY:Junior BB season
DESCRIPTION:
URL:https://keithwarmemorialsportscentre.com.au/event/junior-bb-season-5/
CATEGORIES:Stadium
END:VEVENT
BEGIN:VEVENT
DTSTART;TZID=Australia/Adelaide:20191114T153000
DTEND;TZID=Australia/Adelaide:20191114T183000
DTSTAMP:20260426T121954
CREATED:20190819T041604Z
LAST-MODIFIED:20190906T034704Z
UID:1237-1573745400-1573756200@keithwarmemorialsportscentre.com.au
SUMMARY:Junior carnival training
DESCRIPTION:
URL:https://keithwarmemorialsportscentre.com.au/event/junior-carnival-training-5/
CATEGORIES:Stadium
END:VEVENT
BEGIN:VEVENT
DTSTART;TZID=Australia/Adelaide:20191114T190000
DTEND;TZID=Australia/Adelaide:20191114T210000
DTSTAMP:20260426T121954
CREATED:20191104T230920Z
LAST-MODIFIED:20191104T230920Z
UID:1340-1573758000-1573765200@keithwarmemorialsportscentre.com.au
SUMMARY:Mens summer BB
DESCRIPTION:
URL:https://keithwarmemorialsportscentre.com.au/event/mens-summer-bb-5/
CATEGORIES:Stadium
END:VEVENT
BEGIN:VEVENT
DTSTART;TZID=Australia/Adelaide:20191119T150000
DTEND;TZID=Australia/Adelaide:20191119T210000
DTSTAMP:20260426T121954
CREATED:20190819T040153Z
LAST-MODIFIED:20190819T040153Z
UID:1209-1574175600-1574197200@keithwarmemorialsportscentre.com.au
SUMMARY:Junior BB season
DESCRIPTION:
URL:https://keithwarmemorialsportscentre.com.au/event/junior-bb-season-6/
CATEGORIES:Stadium
END:VEVENT
BEGIN:VEVENT
DTSTART;TZID=Australia/Adelaide:20191121T153000
DTEND;TZID=Australia/Adelaide:20191121T183000
DTSTAMP:20260426T121954
CREATED:20190819T041629Z
LAST-MODIFIED:20190906T034634Z
UID:1239-1574350200-1574361000@keithwarmemorialsportscentre.com.au
SUMMARY:Junior carnival training
DESCRIPTION:
URL:https://keithwarmemorialsportscentre.com.au/event/junior-carnival-training-6/
CATEGORIES:Stadium
END:VEVENT
BEGIN:VEVENT
DTSTART;TZID=Australia/Adelaide:20191121T190000
DTEND;TZID=Australia/Adelaide:20191121T210000
DTSTAMP:20260426T121954
CREATED:20191104T230957Z
LAST-MODIFIED:20191104T230957Z
UID:1342-1574362800-1574370000@keithwarmemorialsportscentre.com.au
SUMMARY:Mens summer BB
DESCRIPTION:
URL:https://keithwarmemorialsportscentre.com.au/event/mens-summer-bb-6/
CATEGORIES:Stadium
END:VEVENT
BEGIN:VEVENT
DTSTART;TZID=Australia/Adelaide:20191126T150000
DTEND;TZID=Australia/Adelaide:20191126T210000
DTSTAMP:20260426T121954
CREATED:20190819T040221Z
LAST-MODIFIED:20190819T040221Z
UID:1211-1574780400-1574802000@keithwarmemorialsportscentre.com.au
SUMMARY:Junior BB season
DESCRIPTION:
URL:https://keithwarmemorialsportscentre.com.au/event/junior-bb-season-7/
CATEGORIES:Stadium
END:VEVENT
BEGIN:VEVENT
DTSTART;TZID=Australia/Adelaide:20191128T153000
DTEND;TZID=Australia/Adelaide:20191128T183000
DTSTAMP:20260426T121954
CREATED:20190819T041700Z
LAST-MODIFIED:20190906T034610Z
UID:1241-1574955000-1574965800@keithwarmemorialsportscentre.com.au
SUMMARY:Junior carnival training
DESCRIPTION:
URL:https://keithwarmemorialsportscentre.com.au/event/junior-carnival-training-7/
CATEGORIES:Stadium
END:VEVENT
BEGIN:VEVENT
DTSTART;TZID=Australia/Adelaide:20191129T183000
DTEND;TZID=Australia/Adelaide:20191129T213000
DTSTAMP:20260426T121954
CREATED:20191104T231032Z
LAST-MODIFIED:20191104T231032Z
UID:1344-1575052200-1575063000@keithwarmemorialsportscentre.com.au
SUMMARY:Mens summer BB
DESCRIPTION:
URL:https://keithwarmemorialsportscentre.com.au/event/mens-summer-bb-7/
CATEGORIES:Stadium
END:VEVENT
END:VCALENDAR