BEGIN:VCALENDAR
VERSION:2.0
PRODID:-//Keith War Memorial Sports Centre - ECPv6.15.20//NONSGML v1.0//EN
CALSCALE:GREGORIAN
METHOD:PUBLISH
X-ORIGINAL-URL:https://keithwarmemorialsportscentre.com.au
X-WR-CALDESC:Events for Keith War Memorial Sports Centre
REFRESH-INTERVAL;VALUE=DURATION:PT1H
X-Robots-Tag:noindex
X-PUBLISHED-TTL:PT1H
BEGIN:VTIMEZONE
TZID:Australia/Adelaide
BEGIN:STANDARD
TZOFFSETFROM:+1030
TZOFFSETTO:+0930
TZNAME:ACST
DTSTART:20210403T163000
END:STANDARD
BEGIN:DAYLIGHT
TZOFFSETFROM:+0930
TZOFFSETTO:+1030
TZNAME:ACDT
DTSTART:20211002T163000
END:DAYLIGHT
BEGIN:STANDARD
TZOFFSETFROM:+1030
TZOFFSETTO:+0930
TZNAME:ACST
DTSTART:20220402T163000
END:STANDARD
BEGIN:DAYLIGHT
TZOFFSETFROM:+0930
TZOFFSETTO:+1030
TZNAME:ACDT
DTSTART:20221001T163000
END:DAYLIGHT
BEGIN:STANDARD
TZOFFSETFROM:+1030
TZOFFSETTO:+0930
TZNAME:ACST
DTSTART:20230401T163000
END:STANDARD
BEGIN:DAYLIGHT
TZOFFSETFROM:+0930
TZOFFSETTO:+1030
TZNAME:ACDT
DTSTART:20230930T163000
END:DAYLIGHT
END:VTIMEZONE
BEGIN:VEVENT
DTSTART;TZID=Australia/Adelaide:20221022T130000
DTEND;TZID=Australia/Adelaide:20221022T210000
DTSTAMP:20260425T082012
CREATED:20221115T024218Z
LAST-MODIFIED:20221115T024218Z
UID:2489-1666443600-1666472400@keithwarmemorialsportscentre.com.au
SUMMARY:Keith Tennis Club
DESCRIPTION:
URL:https://keithwarmemorialsportscentre.com.au/event/keith-tennis-club-5/
CATEGORIES:Outside Courts
END:VEVENT
BEGIN:VEVENT
DTSTART;TZID=Australia/Adelaide:20221029T130000
DTEND;TZID=Australia/Adelaide:20221029T210000
DTSTAMP:20260425T082012
CREATED:20221115T024245Z
LAST-MODIFIED:20221115T024245Z
UID:2491-1667048400-1667077200@keithwarmemorialsportscentre.com.au
SUMMARY:Keith Tennis Club
DESCRIPTION:
URL:https://keithwarmemorialsportscentre.com.au/event/keith-tennis-club-6/
CATEGORIES:Outside Courts
END:VEVENT
END:VCALENDAR