BEGIN:VCALENDAR
VERSION:2.0
PRODID:-//Keith War Memorial Sports Centre - ECPv6.15.20//NONSGML v1.0//EN
CALSCALE:GREGORIAN
METHOD:PUBLISH
X-ORIGINAL-URL:https://keithwarmemorialsportscentre.com.au
X-WR-CALDESC:Events for Keith War Memorial Sports Centre
REFRESH-INTERVAL;VALUE=DURATION:PT1H
X-Robots-Tag:noindex
X-PUBLISHED-TTL:PT1H
BEGIN:VTIMEZONE
TZID:Australia/Adelaide
BEGIN:STANDARD
TZOFFSETFROM:+1030
TZOFFSETTO:+0930
TZNAME:ACST
DTSTART:20200404T163000
END:STANDARD
BEGIN:DAYLIGHT
TZOFFSETFROM:+0930
TZOFFSETTO:+1030
TZNAME:ACDT
DTSTART:20201003T163000
END:DAYLIGHT
BEGIN:STANDARD
TZOFFSETFROM:+1030
TZOFFSETTO:+0930
TZNAME:ACST
DTSTART:20210403T163000
END:STANDARD
BEGIN:DAYLIGHT
TZOFFSETFROM:+0930
TZOFFSETTO:+1030
TZNAME:ACDT
DTSTART:20211002T163000
END:DAYLIGHT
BEGIN:STANDARD
TZOFFSETFROM:+1030
TZOFFSETTO:+0930
TZNAME:ACST
DTSTART:20220402T163000
END:STANDARD
BEGIN:DAYLIGHT
TZOFFSETFROM:+0930
TZOFFSETTO:+1030
TZNAME:ACDT
DTSTART:20221001T163000
END:DAYLIGHT
END:VTIMEZONE
BEGIN:VEVENT
DTSTART;TZID=Australia/Adelaide:20210502T100000
DTEND;TZID=Australia/Adelaide:20210502T140000
DTSTAMP:20260426T125952
CREATED:20210430T023008Z
LAST-MODIFIED:20210430T023702Z
UID:1956-1619949600-1619964000@keithwarmemorialsportscentre.com.au
SUMMARY:external booking KNTNA
DESCRIPTION:
URL:https://keithwarmemorialsportscentre.com.au/event/external-booking-netball-trainers/
CATEGORIES:Outside Courts
END:VEVENT
BEGIN:VEVENT
DTSTART;TZID=Australia/Adelaide:20210504T170000
DTEND;TZID=Australia/Adelaide:20210504T183000
DTSTAMP:20260426T125952
CREATED:20210428T113723Z
LAST-MODIFIED:20210428T113723Z
UID:1913-1620147600-1620153000@keithwarmemorialsportscentre.com.au
SUMMARY:Netball training
DESCRIPTION:
URL:https://keithwarmemorialsportscentre.com.au/event/netball-training-126/
CATEGORIES:Outside Courts
END:VEVENT
BEGIN:VEVENT
DTSTART;TZID=Australia/Adelaide:20210506T153000
DTEND;TZID=Australia/Adelaide:20210506T200000
DTSTAMP:20260426T125952
CREATED:20210428T124438Z
LAST-MODIFIED:20210428T124438Z
UID:1921-1620315000-1620331200@keithwarmemorialsportscentre.com.au
SUMMARY:Netball training
DESCRIPTION:
URL:https://keithwarmemorialsportscentre.com.au/event/netball-training-130/
CATEGORIES:Outside Courts
END:VEVENT
BEGIN:VEVENT
DTSTART;TZID=Australia/Adelaide:20210511T170000
DTEND;TZID=Australia/Adelaide:20210511T183000
DTSTAMP:20260426T125952
CREATED:20210428T113806Z
LAST-MODIFIED:20210428T113806Z
UID:1915-1620752400-1620757800@keithwarmemorialsportscentre.com.au
SUMMARY:Netball training
DESCRIPTION:
URL:https://keithwarmemorialsportscentre.com.au/event/netball-training-127/
CATEGORIES:Outside Courts
END:VEVENT
BEGIN:VEVENT
DTSTART;TZID=Australia/Adelaide:20210513T153000
DTEND;TZID=Australia/Adelaide:20210513T200000
DTSTAMP:20260426T125952
CREATED:20210428T124515Z
LAST-MODIFIED:20210428T124515Z
UID:1923-1620919800-1620936000@keithwarmemorialsportscentre.com.au
SUMMARY:Netball training
DESCRIPTION:
URL:https://keithwarmemorialsportscentre.com.au/event/netball-training-131/
CATEGORIES:Outside Courts
END:VEVENT
BEGIN:VEVENT
DTSTART;TZID=Australia/Adelaide:20210518T170000
DTEND;TZID=Australia/Adelaide:20210518T183000
DTSTAMP:20260426T125952
CREATED:20210428T113852Z
LAST-MODIFIED:20210428T113852Z
UID:1917-1621357200-1621362600@keithwarmemorialsportscentre.com.au
SUMMARY:Netball training
DESCRIPTION:
URL:https://keithwarmemorialsportscentre.com.au/event/netball-training-128/
CATEGORIES:Outside Courts
END:VEVENT
BEGIN:VEVENT
DTSTART;TZID=Australia/Adelaide:20210520T153000
DTEND;TZID=Australia/Adelaide:20210520T200000
DTSTAMP:20260426T125952
CREATED:20210428T124555Z
LAST-MODIFIED:20210428T124555Z
UID:1925-1621524600-1621540800@keithwarmemorialsportscentre.com.au
SUMMARY:Netball training
DESCRIPTION:
URL:https://keithwarmemorialsportscentre.com.au/event/netball-training-132/
CATEGORIES:Outside Courts
END:VEVENT
BEGIN:VEVENT
DTSTART;TZID=Australia/Adelaide:20210523T090000
DTEND;TZID=Australia/Adelaide:20210523T130000
DTSTAMP:20260426T125952
CREATED:20210506T120455Z
LAST-MODIFIED:20210506T120455Z
UID:1959-1621760400-1621774800@keithwarmemorialsportscentre.com.au
SUMMARY:Netball club
DESCRIPTION:
URL:https://keithwarmemorialsportscentre.com.au/event/netball-club-3/
CATEGORIES:Outside Courts
END:VEVENT
BEGIN:VEVENT
DTSTART;TZID=Australia/Adelaide:20210525T170000
DTEND;TZID=Australia/Adelaide:20210525T183000
DTSTAMP:20260426T125952
CREATED:20210428T113935Z
LAST-MODIFIED:20210428T113935Z
UID:1919-1621962000-1621967400@keithwarmemorialsportscentre.com.au
SUMMARY:Netball training
DESCRIPTION:
URL:https://keithwarmemorialsportscentre.com.au/event/netball-training-129/
CATEGORIES:Outside Courts
END:VEVENT
BEGIN:VEVENT
DTSTART;TZID=Australia/Adelaide:20210527T153000
DTEND;TZID=Australia/Adelaide:20210527T200000
DTSTAMP:20260426T125952
CREATED:20210428T124630Z
LAST-MODIFIED:20210428T124630Z
UID:1927-1622129400-1622145600@keithwarmemorialsportscentre.com.au
SUMMARY:Netball training
DESCRIPTION:
URL:https://keithwarmemorialsportscentre.com.au/event/netball-training-133/
CATEGORIES:Outside Courts
END:VEVENT
END:VCALENDAR