BEGIN:VCALENDAR
VERSION:2.0
PRODID:-//Keith War Memorial Sports Centre - ECPv6.15.20//NONSGML v1.0//EN
CALSCALE:GREGORIAN
METHOD:PUBLISH
X-WR-CALNAME:Keith War Memorial Sports Centre
X-ORIGINAL-URL:https://keithwarmemorialsportscentre.com.au
X-WR-CALDESC:Events for Keith War Memorial Sports Centre
REFRESH-INTERVAL;VALUE=DURATION:PT1H
X-Robots-Tag:noindex
X-PUBLISHED-TTL:PT1H
BEGIN:VTIMEZONE
TZID:Australia/Adelaide
BEGIN:STANDARD
TZOFFSETFROM:+1030
TZOFFSETTO:+0930
TZNAME:ACST
DTSTART:20210403T163000
END:STANDARD
BEGIN:DAYLIGHT
TZOFFSETFROM:+0930
TZOFFSETTO:+1030
TZNAME:ACDT
DTSTART:20211002T163000
END:DAYLIGHT
BEGIN:STANDARD
TZOFFSETFROM:+1030
TZOFFSETTO:+0930
TZNAME:ACST
DTSTART:20220402T163000
END:STANDARD
BEGIN:DAYLIGHT
TZOFFSETFROM:+0930
TZOFFSETTO:+1030
TZNAME:ACDT
DTSTART:20221001T163000
END:DAYLIGHT
BEGIN:STANDARD
TZOFFSETFROM:+1030
TZOFFSETTO:+0930
TZNAME:ACST
DTSTART:20230401T163000
END:STANDARD
BEGIN:DAYLIGHT
TZOFFSETFROM:+0930
TZOFFSETTO:+1030
TZNAME:ACDT
DTSTART:20230930T163000
END:DAYLIGHT
END:VTIMEZONE
BEGIN:VEVENT
DTSTART;TZID=Australia/Adelaide:20220913T190000
DTEND;TZID=Australia/Adelaide:20220913T210000
DTSTAMP:20260425T012301
CREATED:20221031T004552Z
LAST-MODIFIED:20221031T004552Z
UID:2304-1663095600-1663102800@keithwarmemorialsportscentre.com.au
SUMMARY:Tennis Club Meeting
DESCRIPTION:
URL:https://keithwarmemorialsportscentre.com.au/event/tennis-club-meeting-6/
CATEGORIES:Meeting Room
END:VEVENT
BEGIN:VEVENT
DTSTART;TZID=Australia/Adelaide:20220921T180000
DTEND;TZID=Australia/Adelaide:20220921T220000
DTSTAMP:20260425T012301
CREATED:20221031T004834Z
LAST-MODIFIED:20221031T004834Z
UID:2308-1663783200-1663797600@keithwarmemorialsportscentre.com.au
SUMMARY:Basketball club meeting
DESCRIPTION:
URL:https://keithwarmemorialsportscentre.com.au/event/basketball-club-meeting-4/
CATEGORIES:Meeting Room
END:VEVENT
BEGIN:VEVENT
DTSTART;TZID=Australia/Adelaide:20220928T180000
DTEND;TZID=Australia/Adelaide:20220928T220000
DTSTAMP:20260425T012301
CREATED:20221031T004655Z
LAST-MODIFIED:20221031T004708Z
UID:2306-1664388000-1664402400@keithwarmemorialsportscentre.com.au
SUMMARY:Basketball meeting
DESCRIPTION:
URL:https://keithwarmemorialsportscentre.com.au/event/basketball-meeting-3/
CATEGORIES:Meeting Room
END:VEVENT
END:VCALENDAR