BEGIN:VCALENDAR
VERSION:2.0
PRODID:-//Keith War Memorial Sports Centre - ECPv6.15.20//NONSGML v1.0//EN
CALSCALE:GREGORIAN
METHOD:PUBLISH
X-WR-CALNAME:Keith War Memorial Sports Centre
X-ORIGINAL-URL:https://keithwarmemorialsportscentre.com.au
X-WR-CALDESC:Events for Keith War Memorial Sports Centre
REFRESH-INTERVAL;VALUE=DURATION:PT1H
X-Robots-Tag:noindex
X-PUBLISHED-TTL:PT1H
BEGIN:VTIMEZONE
TZID:Australia/Adelaide
BEGIN:STANDARD
TZOFFSETFROM:+1030
TZOFFSETTO:+0930
TZNAME:ACST
DTSTART:20200404T163000
END:STANDARD
BEGIN:DAYLIGHT
TZOFFSETFROM:+0930
TZOFFSETTO:+1030
TZNAME:ACDT
DTSTART:20201003T163000
END:DAYLIGHT
BEGIN:STANDARD
TZOFFSETFROM:+1030
TZOFFSETTO:+0930
TZNAME:ACST
DTSTART:20210403T163000
END:STANDARD
BEGIN:DAYLIGHT
TZOFFSETFROM:+0930
TZOFFSETTO:+1030
TZNAME:ACDT
DTSTART:20211002T163000
END:DAYLIGHT
BEGIN:STANDARD
TZOFFSETFROM:+1030
TZOFFSETTO:+0930
TZNAME:ACST
DTSTART:20220402T163000
END:STANDARD
BEGIN:DAYLIGHT
TZOFFSETFROM:+0930
TZOFFSETTO:+1030
TZNAME:ACDT
DTSTART:20221001T163000
END:DAYLIGHT
END:VTIMEZONE
BEGIN:VEVENT
DTSTART;TZID=Australia/Adelaide:20210901T170000
DTEND;TZID=Australia/Adelaide:20210901T180000
DTSTAMP:20260425T220050
CREATED:20210830T121008Z
LAST-MODIFIED:20210830T121008Z
UID:2040-1630515600-1630519200@keithwarmemorialsportscentre.com.au
SUMMARY:Keith Junior BB
DESCRIPTION:
URL:https://keithwarmemorialsportscentre.com.au/event/keith-junior-bb/
CATEGORIES:Meeting Room
END:VEVENT
BEGIN:VEVENT
DTSTART;TZID=Australia/Adelaide:20210915T170000
DTEND;TZID=Australia/Adelaide:20210915T180000
DTSTAMP:20260425T220050
CREATED:20210914T041708Z
LAST-MODIFIED:20210914T075519Z
UID:2052-1631725200-1631728800@keithwarmemorialsportscentre.com.au
SUMMARY:committee meeting
DESCRIPTION:
URL:https://keithwarmemorialsportscentre.com.au/event/junior-bb/
CATEGORIES:Meeting Room
END:VEVENT
BEGIN:VEVENT
DTSTART;TZID=Australia/Adelaide:20210920T190000
DTEND;TZID=Australia/Adelaide:20210920T210000
DTSTAMP:20260425T220050
CREATED:20210920T082743Z
LAST-MODIFIED:20210920T082743Z
UID:2087-1632164400-1632171600@keithwarmemorialsportscentre.com.au
SUMMARY:Tennis meeting
DESCRIPTION:
URL:https://keithwarmemorialsportscentre.com.au/event/tennis-meeting-3/
CATEGORIES:Meeting Room
END:VEVENT
BEGIN:VEVENT
DTSTART;TZID=Australia/Adelaide:20210922T180000
DTEND;TZID=Australia/Adelaide:20210922T210000
DTSTAMP:20260425T220050
CREATED:20210914T075631Z
LAST-MODIFIED:20210914T075631Z
UID:2059-1632333600-1632344400@keithwarmemorialsportscentre.com.au
SUMMARY:BB meeting
DESCRIPTION:
URL:https://keithwarmemorialsportscentre.com.au/event/bb-meeting-2/
CATEGORIES:Meeting Room
END:VEVENT
BEGIN:VEVENT
DTSTART;TZID=Australia/Adelaide:20210923T100000
DTEND;TZID=Australia/Adelaide:20210923T140000
DTSTAMP:20260425T220050
CREATED:20210914T035616Z
LAST-MODIFIED:20210914T035616Z
UID:2048-1632391200-1632405600@keithwarmemorialsportscentre.com.au
SUMMARY:Meeting Rm Booking
DESCRIPTION:
URL:https://keithwarmemorialsportscentre.com.au/event/meeting-rm-booking-2/
CATEGORIES:Meeting Room
END:VEVENT
END:VCALENDAR