BEGIN:VCALENDAR
VERSION:2.0
PRODID:-//Keith War Memorial Sports Centre - ECPv6.15.20//NONSGML v1.0//EN
CALSCALE:GREGORIAN
METHOD:PUBLISH
X-WR-CALNAME:Keith War Memorial Sports Centre
X-ORIGINAL-URL:https://keithwarmemorialsportscentre.com.au
X-WR-CALDESC:Events for Keith War Memorial Sports Centre
REFRESH-INTERVAL;VALUE=DURATION:PT1H
X-Robots-Tag:noindex
X-PUBLISHED-TTL:PT1H
BEGIN:VTIMEZONE
TZID:Australia/Adelaide
BEGIN:STANDARD
TZOFFSETFROM:+1030
TZOFFSETTO:+0930
TZNAME:ACST
DTSTART:20200404T163000
END:STANDARD
BEGIN:DAYLIGHT
TZOFFSETFROM:+0930
TZOFFSETTO:+1030
TZNAME:ACDT
DTSTART:20201003T163000
END:DAYLIGHT
BEGIN:STANDARD
TZOFFSETFROM:+1030
TZOFFSETTO:+0930
TZNAME:ACST
DTSTART:20210403T163000
END:STANDARD
BEGIN:DAYLIGHT
TZOFFSETFROM:+0930
TZOFFSETTO:+1030
TZNAME:ACDT
DTSTART:20211002T163000
END:DAYLIGHT
BEGIN:STANDARD
TZOFFSETFROM:+1030
TZOFFSETTO:+0930
TZNAME:ACST
DTSTART:20220402T163000
END:STANDARD
BEGIN:DAYLIGHT
TZOFFSETFROM:+0930
TZOFFSETTO:+1030
TZNAME:ACDT
DTSTART:20221001T163000
END:DAYLIGHT
END:VTIMEZONE
BEGIN:VEVENT
DTSTART;TZID=Australia/Adelaide:20210201T190000
DTEND;TZID=Australia/Adelaide:20210201T200000
DTSTAMP:20260426T101357
CREATED:20210208T031137Z
LAST-MODIFIED:20210208T031137Z
UID:1759-1612206000-1612209600@keithwarmemorialsportscentre.com.au
SUMMARY:netball meeting
DESCRIPTION:
URL:https://keithwarmemorialsportscentre.com.au/event/netball-meeting-3/
CATEGORIES:Meeting Room
END:VEVENT
BEGIN:VEVENT
DTSTART;TZID=Australia/Adelaide:20210202T180000
DTEND;TZID=Australia/Adelaide:20210202T200000
DTSTAMP:20260426T101357
CREATED:20210208T030959Z
LAST-MODIFIED:20210208T030959Z
UID:1757-1612288800-1612296000@keithwarmemorialsportscentre.com.au
SUMMARY:BB club
DESCRIPTION:
URL:https://keithwarmemorialsportscentre.com.au/event/bb-club/
CATEGORIES:Meeting Room
END:VEVENT
BEGIN:VEVENT
DTSTART;TZID=Australia/Adelaide:20210208T190000
DTEND;TZID=Australia/Adelaide:20210208T200000
DTSTAMP:20260426T101357
CREATED:20210208T030549Z
LAST-MODIFIED:20210208T030549Z
UID:1744-1612810800-1612814400@keithwarmemorialsportscentre.com.au
SUMMARY:Netball meeting
DESCRIPTION:
URL:https://keithwarmemorialsportscentre.com.au/event/netball-meeting-2/
CATEGORIES:Meeting Room
END:VEVENT
BEGIN:VEVENT
DTSTART;TZID=Australia/Adelaide:20210209T090000
DTEND;TZID=Australia/Adelaide:20210209T140000
DTSTAMP:20260426T101357
CREATED:20210201T214847Z
LAST-MODIFIED:20210201T214847Z
UID:1737-1612861200-1612879200@keithwarmemorialsportscentre.com.au
SUMMARY:Meeting room booking private
DESCRIPTION:
URL:https://keithwarmemorialsportscentre.com.au/event/meeting-room-booking-private/
CATEGORIES:Meeting Room
END:VEVENT
BEGIN:VEVENT
DTSTART;TZID=Australia/Adelaide:20210215T193000
DTEND;TZID=Australia/Adelaide:20210215T213000
DTSTAMP:20260426T101357
CREATED:20210208T052929Z
LAST-MODIFIED:20210208T052929Z
UID:1778-1613417400-1613424600@keithwarmemorialsportscentre.com.au
SUMMARY:KWMSC meeting
DESCRIPTION:
URL:https://keithwarmemorialsportscentre.com.au/event/kwmsc-meeting-3/
CATEGORIES:Meeting Room
END:VEVENT
END:VCALENDAR